BEGIN:VCALENDAR
VERSION:2.0
PRODID:-//The McFaddin-Ward House - ECPv6.15.20//NONSGML v1.0//EN
CALSCALE:GREGORIAN
METHOD:PUBLISH
X-ORIGINAL-URL:https://mcfaddin-ward.org
X-WR-CALDESC:Events for The McFaddin-Ward House
REFRESH-INTERVAL;VALUE=DURATION:PT1H
X-Robots-Tag:noindex
X-PUBLISHED-TTL:PT1H
BEGIN:VTIMEZONE
TZID:America/Chicago
BEGIN:DAYLIGHT
TZOFFSETFROM:-0600
TZOFFSETTO:-0500
TZNAME:CDT
DTSTART:20250309T080000
END:DAYLIGHT
BEGIN:STANDARD
TZOFFSETFROM:-0500
TZOFFSETTO:-0600
TZNAME:CST
DTSTART:20251102T070000
END:STANDARD
BEGIN:DAYLIGHT
TZOFFSETFROM:-0600
TZOFFSETTO:-0500
TZNAME:CDT
DTSTART:20260308T080000
END:DAYLIGHT
BEGIN:STANDARD
TZOFFSETFROM:-0500
TZOFFSETTO:-0600
TZNAME:CST
DTSTART:20261101T070000
END:STANDARD
BEGIN:DAYLIGHT
TZOFFSETFROM:-0600
TZOFFSETTO:-0500
TZNAME:CDT
DTSTART:20270314T080000
END:DAYLIGHT
BEGIN:STANDARD
TZOFFSETFROM:-0500
TZOFFSETTO:-0600
TZNAME:CST
DTSTART:20271107T070000
END:STANDARD
END:VTIMEZONE
BEGIN:VEVENT
DTSTART;TZID=America/Chicago:20260507T183000
DTEND;TZID=America/Chicago:20260507T200000
DTSTAMP:20260421T150107
CREATED:20250926T191334Z
LAST-MODIFIED:20260417T152650Z
UID:7027-1778178600-1778184000@mcfaddin-ward.org
SUMMARY:McFaddin-Ward House Museum Lecture Series Presents “Preserving the Past\, Cultivating the Future: The Antique Rose Emporium Journey” by Jim Keeter Jr.
DESCRIPTION:Join the McFaddin-Ward House Museum for “Preserving the Past\, Cultivating the Future: The Antique Rose Emporium Journey\,” a free public lecture presented by Jim Keeter Jr. on Thursday\, May 7\, at 6:30 p.m. in the Museum’s Visitor Center Lecture Hall (1906 Calder Avenue\, Beaumont). \nFor the past 40 years\, the Antique Rose Emporium\, an eight-acre rose garden\, nursery\, gift shop\, and popular tourist destination in historic Independence\, Texas\, has championed the charm and resilience of old garden roses. As a working rose breeding and growing operation\, the Emporium’s story — shared by co-owner Jim Keeter Jr. — traces its rise from humble beginnings to national recognition and how its legacy inspires a bold\, blooming future for roses and gardeners alike. \nKeeter developed a lifelong love of plants and sustainable landscapes while earning his Bachelor of Science degree in range land ecology and management at Texas A&M University in 1983. His passion for plants has carried him through a rich career in ranch brokerage\, landscape planning\, and plant sourcing. Working first with his father’s firm and then building his own business\, Keeter has learned every facet of horticulture and land design — from project management to creative planting strategies. \nIn 2022\, Keeter and his wife Kim purchased the Antique Rose Emporium\, where he now shares his passion for resilient roses and ecological gardens with thousands of visitors from across the country who come to explore the vibrant blooms\, experience the artistry of horticulture\, and feel connected to a legacy that has transcended generations. \nMcFaddin-Ward House Museum lectures are admission-free and open to the public\, but space is limited. Doors open at 6 p.m. For more information\, call 409-832-2134. \nFor those unable to attend\, the full lecture will be available for viewing on the museum YouTube Channel (youtube.com/@mcfaddinwardhouse)\, Facebook (facebook.com/McFaddinWardHouse)\, and website (mcfaddin-ward.org/about/videos) after the event.
URL:https://mcfaddin-ward.org/event/mcfaddin-ward-house-lecture-series-presentation/
LOCATION:McFaddin-Ward House Visitor Center\, 1906 Calder\, Beaumont\, TX\, 77701\, United States
CATEGORIES:Free Events,Lecture
ATTACH;FMTTYPE=image/jpeg:https://mcfaddin-ward.org/wp-content/uploads/2025/09/May-7-Antique-Rose-Emporium-Lecture-Web-Graphics.jpg
END:VEVENT
BEGIN:VEVENT
DTSTART;TZID=America/Chicago:20260611T183000
DTEND;TZID=America/Chicago:20260611T200000
DTSTAMP:20260421T150107
CREATED:20250926T191501Z
LAST-MODIFIED:20260309T181409Z
UID:7028-1781202600-1781208000@mcfaddin-ward.org
SUMMARY:McFaddin-Ward House Museum Lecture Series Presents “The Golden Age of Ocean Liners: A Short History from 1897 to the Present” By Brian Dudley
DESCRIPTION:Join the McFaddin-Ward House Museum for “The Golden Age of Ocean Liners: A Short History from 1897 to the Present\,” a free public lecture presented by Brian Dudley on Thursday\, June 11\, at 6:30 p.m. in the Museum’s Visitor Center Lecture Hall (1906 Calder Avenue\, Beaumont). \nHistorian Brian Dudley will voyage through the storied history of the grand North Atlantic ocean liners that traveled the seas for more than half a century\, tracing the technological\, architectural\, and decorative evolution of these great ships from 1897 to the present day. Dudley will also explain how these impressive ships helped shape world events and impacted history in the 20th century. \nSince the age of four\, Dudley has been fascinated by ocean liners. Throughout his life\, he has researched the captivating history of these wonderful ships in museums and libraries across the country and has acquired a personal library of more than 200 ocean liner-related books\, as well as a vast collection of ocean liner memorabilia. \nDudley has made several transatlantic crossings on the France\, the Queen Elizabeth 2\, and the Queen Mary 2\, experiencing the wonders of an ocean liner voyage first-hand. He enjoys sharing his extensive knowledge of these legendary ships and has found a great avocation in lecturing. \nMcFaddin-Ward House Museum lectures are admission-free and open to the public\, but space is limited. Doors open at 6 p.m. For more information\, call 409-832-2134. \nFor those unable to attend\, the full lecture will be available for viewing on the museum YouTube Channel (youtube.com/@mcfaddinwardhouse)\, Facebook (facebook.com/McFaddinWardHouse)\, and website (mcfaddin-ward.org/about/videos) after the event.
URL:https://mcfaddin-ward.org/event/mcfaddin-ward-house-lecture-series-presents-the-golden-age-of-ocean-liners-a-short-history-from-1897-to-the-present-by-brian-dudley/
LOCATION:McFaddin-Ward House Visitor Center\, 1906 Calder\, Beaumont\, TX\, 77701\, United States
CATEGORIES:Free Events,Lecture
ATTACH;FMTTYPE=image/jpeg:https://mcfaddin-ward.org/wp-content/uploads/2025/09/June-11-Ocean-Liner-Lecture-Web-Graphics.jpg
END:VEVENT
BEGIN:VEVENT
DTSTART;TZID=America/Chicago:20260716T183000
DTEND;TZID=America/Chicago:20260716T200000
DTSTAMP:20260421T150107
CREATED:20250926T191631Z
LAST-MODIFIED:20260415T183129Z
UID:7029-1784226600-1784232000@mcfaddin-ward.org
SUMMARY:McFaddin-Ward House Museum Lecture Series Presents “Extreme Sports in Historic Small Boats” By Pieter Roos
DESCRIPTION:Join the McFaddin-Ward House Museum for “Extreme Sports in Historic Small Boats\,” a free public lecture presented by Pieter Roos on Thursday\, July 16\, at 6:30 p.m. in the Museum’s Visitor Center Lecture Hall (1906 Calder Avenue\, Beaumont). \nMaritime historian Pieter Roos will bring to life the thrilling stories of fast boats from the 19th and early 20th centuries\, highlighting the daring sportsmen and women who guided uniquely designed vessels to high speeds and victory. From unstable state-of-the-art “sandbagger” sailboats to nimble ice scooters and pioneering powerboats\, each boat showcases the innovation\, intensity\, and fearless spirit of sailing on the edge. \nFor more than four decades\, Roos has worked as a museum professional in New York\, New Jersey\, and New England\, serving on the staff of a wide range of institutions\, including Historic Hudson Valley\, Old Sturbridge Village\, Mystic Seaport Museum\, and the Newport Historical Society. \nThe majority of Roos’ career has been focused in the leadership role of executive director\, a prominent position he held at both the Newport Restoration Foundation in Newport\, Rhode Island\, and at the Mark Twain House and Museum in Hartford\, Connecticut. \nCurrently\, Roos is the professor of museum administration at the Cooperstown Graduate Program in Museum Studies in Cooperstown\, New York.  In addition to his work life\, Roos is a landscape artist specializing in seascapes\, and for over 30 years\, he has been carving half models of boats and ships. \nRoos holds a master’s degree from the Cooperstown Graduate Program at the State University of New York and a B.A. in anthropology from Drew University. \nMcFaddin-Ward House Museum lectures are admission-free and open to the public\, but space is limited. Doors open at 6 p.m. For more information\, call 409-832-2134. \nFor those unable to attend\, the full lecture will be available for viewing on the museum YouTube Channel (youtube.com/@mcfaddinwardhouse)\, Facebook (facebook.com/McFaddinWardHouse)\, and website (mcfaddin-ward.org/about/videos) after the event.
URL:https://mcfaddin-ward.org/event/mcfaddin-ward-house-lecture-series-presents-making-waves-the-rich-history-and-tales-woven-into-small-pleasure-craft-by-pieter-roos/
LOCATION:McFaddin-Ward House Visitor Center\, 1906 Calder\, Beaumont\, TX\, 77701\, United States
CATEGORIES:Free Events,Lecture
ATTACH;FMTTYPE=image/jpeg:https://mcfaddin-ward.org/wp-content/uploads/2025/09/July-16-Small-Boats-Lecture-Digital-Graphics.jpg
END:VEVENT
END:VCALENDAR