BEGIN:VCALENDAR
VERSION:2.0
PRODID:-//The McFaddin-Ward House - ECPv6.15.20//NONSGML v1.0//EN
CALSCALE:GREGORIAN
METHOD:PUBLISH
X-ORIGINAL-URL:https://mcfaddin-ward.org
X-WR-CALDESC:Events for The McFaddin-Ward House
REFRESH-INTERVAL;VALUE=DURATION:PT1H
X-Robots-Tag:noindex
X-PUBLISHED-TTL:PT1H
BEGIN:VTIMEZONE
TZID:America/Chicago
BEGIN:DAYLIGHT
TZOFFSETFROM:-0600
TZOFFSETTO:-0500
TZNAME:CDT
DTSTART:20240310T080000
END:DAYLIGHT
BEGIN:STANDARD
TZOFFSETFROM:-0500
TZOFFSETTO:-0600
TZNAME:CST
DTSTART:20241103T070000
END:STANDARD
BEGIN:DAYLIGHT
TZOFFSETFROM:-0600
TZOFFSETTO:-0500
TZNAME:CDT
DTSTART:20250309T080000
END:DAYLIGHT
BEGIN:STANDARD
TZOFFSETFROM:-0500
TZOFFSETTO:-0600
TZNAME:CST
DTSTART:20251102T070000
END:STANDARD
BEGIN:DAYLIGHT
TZOFFSETFROM:-0600
TZOFFSETTO:-0500
TZNAME:CDT
DTSTART:20260308T080000
END:DAYLIGHT
BEGIN:STANDARD
TZOFFSETFROM:-0500
TZOFFSETTO:-0600
TZNAME:CST
DTSTART:20261101T070000
END:STANDARD
END:VTIMEZONE
BEGIN:VEVENT
DTSTART;TZID=America/Chicago:20250603T100000
DTEND;TZID=America/Chicago:20250603T113000
DTSTAMP:20260424T074515
CREATED:20250325T155054Z
LAST-MODIFIED:20250527T144804Z
UID:6846-1748944800-1748950200@mcfaddin-ward.org
SUMMARY:Craft & Share Workshop for Seniors – Seashell Art
DESCRIPTION:The McFaddin-Ward House Museum invites senior adults (65+) to join in our “Seashell Art” Craft & Share Workshop on Tuesday\, June 3\, from 10 to 11:30 a.m. in the Museum’s Visitor Center Lecture Hall (1906 Calder Ave. in Beaumont). We will make beautiful seashell keepsakes and talk about our favorite times at the beach over coffee and refreshments. Bring a friend and come enjoy the morning with us. \nThere is no fee for this event. Reservations are required as space is limited. \nUPDATE: Registration is now full. Thank you for your interest!
URL:https://mcfaddin-ward.org/event/craft-share-workshop-for-seniors-seashell-art/
LOCATION:McFaddin-Ward House Visitor Center\, 1906 Calder\, Beaumont\, TX\, 77701\, United States
CATEGORIES:Seniors Craft & Share Workshop
ATTACH;FMTTYPE=image/jpeg:https://mcfaddin-ward.org/wp-content/uploads/2025/03/June-2025-Senior-Workshop-Web-Graphics-1.jpg
END:VEVENT
END:VCALENDAR