BEGIN:VCALENDAR
VERSION:2.0
PRODID:-//The McFaddin-Ward House - ECPv6.15.20//NONSGML v1.0//EN
CALSCALE:GREGORIAN
METHOD:PUBLISH
X-WR-CALNAME:The McFaddin-Ward House
X-ORIGINAL-URL:https://mcfaddin-ward.org
X-WR-CALDESC:Events for The McFaddin-Ward House
REFRESH-INTERVAL;VALUE=DURATION:PT1H
X-Robots-Tag:noindex
X-PUBLISHED-TTL:PT1H
BEGIN:VTIMEZONE
TZID:America/Chicago
BEGIN:DAYLIGHT
TZOFFSETFROM:-0600
TZOFFSETTO:-0500
TZNAME:CDT
DTSTART:20250309T080000
END:DAYLIGHT
BEGIN:STANDARD
TZOFFSETFROM:-0500
TZOFFSETTO:-0600
TZNAME:CST
DTSTART:20251102T070000
END:STANDARD
BEGIN:DAYLIGHT
TZOFFSETFROM:-0600
TZOFFSETTO:-0500
TZNAME:CDT
DTSTART:20260308T080000
END:DAYLIGHT
BEGIN:STANDARD
TZOFFSETFROM:-0500
TZOFFSETTO:-0600
TZNAME:CST
DTSTART:20261101T070000
END:STANDARD
BEGIN:DAYLIGHT
TZOFFSETFROM:-0600
TZOFFSETTO:-0500
TZNAME:CDT
DTSTART:20270314T080000
END:DAYLIGHT
BEGIN:STANDARD
TZOFFSETFROM:-0500
TZOFFSETTO:-0600
TZNAME:CST
DTSTART:20271107T070000
END:STANDARD
END:VTIMEZONE
BEGIN:VEVENT
DTSTART;TZID=America/Chicago:20261008T183000
DTEND;TZID=America/Chicago:20261008T200000
DTSTAMP:20260422T211230
CREATED:20260209T170000Z
LAST-MODIFIED:20260318T203527Z
UID:7289-1791484200-1791489600@mcfaddin-ward.org
SUMMARY:Music at the McFaddins’ Outdoor Concert featuring Curse and the Cure
DESCRIPTION:Join us on Thursday\, October 8\, for an evening of soulful sounds on our beautiful grounds at Music at the McFaddins’ featuring Curse and the Cure\, a Southeast Texas acoustic duo. Gates open at 6 p.m. with music beginning at 6:30 p.m. on the McFaddin-Ward House lawn (1906 McFaddin Ave.\, Beaumont). \nAttendees are encouraged to bring blankets\, chairs\, and refreshments as they gather in the historic home’s gorgeous gardens to enjoy a great evening of live entertainment. \nThe event is admission-free and open to the public. \nIn case of inclement weather\, the Music at the McFaddins’ will be cancelled. \nFor more information\, call 409-832-2134.
URL:https://mcfaddin-ward.org/event/music-at-the-mcfaddins-outdoor-concert-2/
LOCATION:McFaddin-Ward House\, 1906 McFaddin\, Beaumont TX\, 1906 Calder Avenue\, Beaumont\, TX\, 77705\, United States
CATEGORIES:Free Events,Music at the McFaddin's
ATTACH;FMTTYPE=image/jpeg:https://mcfaddin-ward.org/wp-content/uploads/2026/02/10-8-26-Music-Event-Curse-the-Cure.jpg
END:VEVENT
BEGIN:VEVENT
DTSTART;TZID=America/Chicago:20261015T183000
DTEND;TZID=America/Chicago:20261015T200000
DTSTAMP:20260422T211230
CREATED:20260209T170507Z
LAST-MODIFIED:20260209T170507Z
UID:7293-1792089000-1792094400@mcfaddin-ward.org
SUMMARY:McFaddin-Ward House Lecture Series Presents “The Texas Sports Revolution: How the Lone Star State Change the Culture of American Athletics” By Frank A. Guridy
DESCRIPTION:Join the McFaddin-Ward House Museum for “The Texas Sports Revolution: How the Lone Star State Change the Culture of American Athletics\,” a free public lecture presented by Frank A. Guridy on Thursday\, October 15\, at 6:30 p.m. in the Museum’s Visitor Center Lecture Hall (1906 Calder Avenue\, Beaumont). \nMcFaddin-Ward House Museum lectures are admission-free and open to the public\, but space is limited. Doors open at 6 p.m. For more information\, call 409-832-2134. \nFor those unable to attend\, the full lecture will be available for viewing on the Museum YouTube Channel (youtube.com/@mcfaddinwardhouse)\, Facebook (facebook.com/McFaddinWardHouse)\, and website (mcfaddin-ward.org/about/videos) after the event.
URL:https://mcfaddin-ward.org/event/mcfaddin-ward-house-lecture-series-presents-the-texas-sports-revolution-how-the-lone-star-state-change-the-culture-of-american-athletics-by-frank-a-guridy/
LOCATION:McFaddin-Ward House Visitor Center\, 1906 Calder\, Beaumont\, TX\, 77701\, United States
CATEGORIES:Lecture
ATTACH;FMTTYPE=image/png:https://mcfaddin-ward.org/wp-content/uploads/2026/02/Lecture-Series-General-Graphic-v1.png
END:VEVENT
BEGIN:VEVENT
DTSTART;TZID=America/Chicago:20261108T120000
DTEND;TZID=America/Chicago:20261108T140000
DTSTAMP:20260422T211230
CREATED:20260209T170831Z
LAST-MODIFIED:20260209T170831Z
UID:7294-1794139200-1794146400@mcfaddin-ward.org
SUMMARY:Holiday Photo Shoot
DESCRIPTION:Join us for the annual McFaddin-Ward House Museum Holiday Photo Shoot on Sunday\, November 8\, from 12 p.m. – 2 p.m. This family friendly opportunity is admission-free! \nPhotos will be taken inside the house in front of the grand Entrance Hall\, with the stunning staircase beautifully draped in festive décor as your backdrop. A staff photographer will take up to three photos of each group or individual using your personal device (digital camera or cell phone). \nNo reservations are required—photo sessions are available on a first-come\, first-served basis. Upon arrival\, please register at the Visitor Center (1906 Calder Ave.\, Beaumont) to secure your spot. \nCreate a one-of-a-kind holiday memory at the McFaddin-Ward House Museum and take home a keepsake you’ll treasure for years to come!
URL:https://mcfaddin-ward.org/event/holiday-photo-shoot-6/
LOCATION:McFaddin-Ward House\, 1906 McFaddin\, Beaumont TX\, 1906 Calder Avenue\, Beaumont\, TX\, 77705\, United States
CATEGORIES:Free Events,Holiday
ATTACH;FMTTYPE=image/jpeg:https://mcfaddin-ward.org/wp-content/uploads/2026/02/Holiday-Photo-Shoot-Graphics-2026.jpg
END:VEVENT
BEGIN:VEVENT
DTSTART;TZID=America/Chicago:20261112T183000
DTEND;TZID=America/Chicago:20261112T200000
DTSTAMP:20260422T211230
CREATED:20260209T171148Z
LAST-MODIFIED:20260209T171148Z
UID:7296-1794508200-1794513600@mcfaddin-ward.org
SUMMARY:McFaddin-Ward House Museum Lecture Series Presents “Beaumont 250: A History” by Judith Linsley
DESCRIPTION:Join the McFaddin-Ward House Museum for “Beaumont 250: A History\,” a free public lecture presented by Judith Linsley on Thursday\, November 12\, at 6:30 p.m. in the Museum’s Visitor Center Lecture Hall (1906 Calder Avenue\, Beaumont). \nMcFaddin-Ward House Museum lectures are admission-free and open to the public\, but space is limited. Doors open at 6 p.m. For more information\, call 409-832-2134. \nFor those unable to attend\, the full lecture will be available for viewing on the Museum YouTube Channel (youtube.com/@mcfaddinwardhouse)\, Facebook (facebook.com/McFaddinWardHouse)\, and website (mcfaddin-ward.org/about/videos) after the event.
URL:https://mcfaddin-ward.org/event/mcfaddin-ward-house-museum-lecture-series-presents-beaumont-250-a-history-by-judith-linsley/
LOCATION:McFaddin-Ward House Visitor Center\, 1906 Calder\, Beaumont\, TX\, 77701\, United States
CATEGORIES:Free Events,Lecture
ATTACH;FMTTYPE=image/png:https://mcfaddin-ward.org/wp-content/uploads/2026/02/Lecture-Series-General-Graphic-v1.png
END:VEVENT
BEGIN:VEVENT
DTSTART;TZID=America/Chicago:20261206T170000
DTEND;TZID=America/Chicago:20261206T190000
DTSTAMP:20260422T211230
CREATED:20260209T171844Z
LAST-MODIFIED:20260209T171844Z
UID:7298-1796576400-1796583600@mcfaddin-ward.org
SUMMARY:Holiday Open House Weekend - Sunday\, Dec. 6 Event
DESCRIPTION:The McFaddin-Ward House invites the community to delight in the splendor\, sounds\, and spirit of the season at its annual admission-free Holiday Open House Weekend on Saturday\, Dec. 5\, and Sunday\, Dec. 6\, from 5-7 p.m. \nGuests will enjoy festive refreshments\, live music\, carolers\, and Santa’s Craft Workshop with children’s activities at the museum’s Visitor Center (1906 Calder Avenue in Beaumont) before making their way across the street to see the historic house shining with holiday cheer and twinkling lights. \nInside the home\, visitors will tour a visual wonderland of magnificent holiday decorations throughout the first floor\, while traditional Christmas music plays on the Music Room’s grand piano. This year’s holiday interpretation will allow guests to experience a McFaddin family open house party. Gorgeous gold\, shining silver\, and sparkling crystal light up the dining areas\, while glamorous party clothes and other special items\, like a vintage toy train\, will be on display. Before departing\, guests will have the opportunity to take photos with Santa on the front porch to complete the magic memories of the evening. \nThe event is admission-free and open to the public. For more information\, call 409-832-2134.
URL:https://mcfaddin-ward.org/event/holiday-open-house-weekend-sunday-dec-6-event/
LOCATION:McFaddin-Ward House Visitor Center\, 1906 Calder\, Beaumont\, TX\, 77701\, United States
CATEGORIES:Free Events,Holiday Open House
ATTACH;FMTTYPE=image/jpeg:https://mcfaddin-ward.org/wp-content/uploads/2025/12/Entrance-Hall-Edited-Web.jpg
END:VEVENT
END:VCALENDAR