BEGIN:VCALENDAR
VERSION:2.0
PRODID:-//The McFaddin-Ward House - ECPv6.15.20//NONSGML v1.0//EN
CALSCALE:GREGORIAN
METHOD:PUBLISH
X-WR-CALNAME:The McFaddin-Ward House
X-ORIGINAL-URL:https://mcfaddin-ward.org
X-WR-CALDESC:Events for The McFaddin-Ward House
REFRESH-INTERVAL;VALUE=DURATION:PT1H
X-Robots-Tag:noindex
X-PUBLISHED-TTL:PT1H
BEGIN:VTIMEZONE
TZID:America/Chicago
BEGIN:DAYLIGHT
TZOFFSETFROM:-0600
TZOFFSETTO:-0500
TZNAME:CDT
DTSTART:20250309T080000
END:DAYLIGHT
BEGIN:STANDARD
TZOFFSETFROM:-0500
TZOFFSETTO:-0600
TZNAME:CST
DTSTART:20251102T070000
END:STANDARD
BEGIN:DAYLIGHT
TZOFFSETFROM:-0600
TZOFFSETTO:-0500
TZNAME:CDT
DTSTART:20260308T080000
END:DAYLIGHT
BEGIN:STANDARD
TZOFFSETFROM:-0500
TZOFFSETTO:-0600
TZNAME:CST
DTSTART:20261101T070000
END:STANDARD
BEGIN:DAYLIGHT
TZOFFSETFROM:-0600
TZOFFSETTO:-0500
TZNAME:CDT
DTSTART:20270314T080000
END:DAYLIGHT
BEGIN:STANDARD
TZOFFSETFROM:-0500
TZOFFSETTO:-0600
TZNAME:CST
DTSTART:20271107T070000
END:STANDARD
END:VTIMEZONE
BEGIN:VEVENT
DTSTART;TZID=America/Chicago:20260317T100000
DTEND;TZID=America/Chicago:20260317T113000
DTSTAMP:20260423T024731
CREATED:20251002T201742Z
LAST-MODIFIED:20260217T213349Z
UID:7037-1773741600-1773747000@mcfaddin-ward.org
SUMMARY:Homeschool Workshop: Conservation with Sea Rim State Park
DESCRIPTION:The McFaddin-Ward House Education Department will offer “Conservation with Sea Rim State Park\,” a free Homeschool Workshop for ages 8 – 12\, on Tuesday\, March 17\, in the McFaddin-Ward House Visitor Center (1906 Calder Avenue\, Beaumont) from 10 to 11:30 a.m. \nTexas Parks and Wildlife Park Ranger\, Laura\, from Sea Rim State Park will teach a lesson on the conservation of Texas Coastal lands\, which consist of prairies\, wetlands\, and estuaries\, and the habitats of native species such as Attwater’s prairie chicken\, the bobwhite quail\, and mottled duck. \nRegistration is not required\, but seating is limited. \n**Please note: This is not a drop off event. Children must be accompanied by an adult.
URL:https://mcfaddin-ward.org/event/homeschool-workshop-conservation/
LOCATION:McFaddin-Ward House\, 1906 McFaddin\, Beaumont TX\, 1906 Calder Avenue\, Beaumont\, TX\, 77705\, United States
CATEGORIES:Homeschool Workshop
ATTACH;FMTTYPE=image/jpeg:https://mcfaddin-ward.org/wp-content/uploads/2025/10/March-2026-Conservation-Homeschool-Workshop-Website-Event-Graphics.jpg
END:VEVENT
END:VCALENDAR