BEGIN:VCALENDAR
VERSION:2.0
PRODID:-//The McFaddin-Ward House - ECPv6.15.20//NONSGML v1.0//EN
CALSCALE:GREGORIAN
METHOD:PUBLISH
X-WR-CALNAME:The McFaddin-Ward House
X-ORIGINAL-URL:https://mcfaddin-ward.org
X-WR-CALDESC:Events for The McFaddin-Ward House
REFRESH-INTERVAL;VALUE=DURATION:PT1H
X-Robots-Tag:noindex
X-PUBLISHED-TTL:PT1H
BEGIN:VTIMEZONE
TZID:America/Chicago
BEGIN:DAYLIGHT
TZOFFSETFROM:-0600
TZOFFSETTO:-0500
TZNAME:CDT
DTSTART:20240310T080000
END:DAYLIGHT
BEGIN:STANDARD
TZOFFSETFROM:-0500
TZOFFSETTO:-0600
TZNAME:CST
DTSTART:20241103T070000
END:STANDARD
BEGIN:DAYLIGHT
TZOFFSETFROM:-0600
TZOFFSETTO:-0500
TZNAME:CDT
DTSTART:20250309T080000
END:DAYLIGHT
BEGIN:STANDARD
TZOFFSETFROM:-0500
TZOFFSETTO:-0600
TZNAME:CST
DTSTART:20251102T070000
END:STANDARD
BEGIN:DAYLIGHT
TZOFFSETFROM:-0600
TZOFFSETTO:-0500
TZNAME:CDT
DTSTART:20260308T080000
END:DAYLIGHT
BEGIN:STANDARD
TZOFFSETFROM:-0500
TZOFFSETTO:-0600
TZNAME:CST
DTSTART:20261101T070000
END:STANDARD
END:VTIMEZONE
BEGIN:VEVENT
DTSTART;TZID=America/Chicago:20251009T183000
DTEND;TZID=America/Chicago:20251009T200000
DTSTAMP:20260423T114839
CREATED:20250730T142915Z
LAST-MODIFIED:20250923T203442Z
UID:6952-1760034600-1760040000@mcfaddin-ward.org
SUMMARY:McFaddin-Ward House Lecture Series Presents “Stories of the 1900 Galveston Storm: What We Have Learned” By Shelly Kelly and Judge Jeff Branick
DESCRIPTION:Join the McFaddin-Ward House Museum for “Stories of the 1900 Galveston Storm: What We Have Learned\,” a free public lecture presented by Shelly Kelly\, followed by community storm plan updates from Judge Jeff Branick\, on Thursday\, Oct. 9\, at 6:30 p.m. in the museum’s Visitor Center Lecture Hall (1906 Calder Avenue\, Beaumont). \nKelly\, an independent researcher and author\, will share stunning stories of the devasting hurricane that unexpectedly struck Galveston in 1900\, reflecting on the lasting lessons it left behind and examining how the storm’s impact was magnified by a lack of preparedness. Judge Branick will follow with an overview of modern hurricane forecasting and current emergency response strategies in Southeast Texas. \nA certified archivist with a master’s degree in applied history\, Kelly began her archival career at the Galveston & Texas History Center\, located in Galveston’s Rosenberg Library\, where she worked closely with 1900 Storm collections and researchers. She has co-edited an award-winning book on the notorious hurricane\, Through a Night of Horrors: Voices from the 1900 Galveston Storm\, and her archival outreach on the subject was recognized with a national award from the Society of American Archivists. Since 2020\, Shelly has worked as an independent researcher\, writer\, and oral history consultant. \nJudge Branick is a former attorney and partner at Provost Umphrey Law Firm. He has served as the elected county judge of Jefferson County since assuming office in 2011. Over the past 14 years\, he has worked tirelessly on coastal erosion protection and hurricane storm surge protection for coastal residents. Judge Branick has helped lead the county through several hurricanes and disasters\, and he will share his considerable insight into the importance of storm preparedness. \nMcFaddin-Ward House Museum lectures are admission-free and open to the public\, but space is limited. Doors open at 6 p.m. For more information\, call 409-832-2134. \nFor those unable to attend\, the full lecture will be available for viewing on the museum YouTube Channel (youtube.com/@mcfaddinwardhouse)\, Facebook (facebook.com/McFaddinWardHouse) and website (mcfaddin-ward.org/about/videos) after the event. \n 
URL:https://mcfaddin-ward.org/event/mcfaddin-ward-house-lecture-series-presents-stories-of-the-1900-galveston-storm-what-we-have-learned-by-shelly-kelly-and-judge-jeff-branick/
LOCATION:McFaddin-Ward House Visitor Center\, 1906 Calder\, Beaumont\, TX\, 77701\, United States
CATEGORIES:Lecture
ATTACH;FMTTYPE=image/jpeg:https://mcfaddin-ward.org/wp-content/uploads/2025/07/Oct.-9-Galveston-Storm-Lecture-Web-Graphics-1920-x-1080.jpg
END:VEVENT
BEGIN:VEVENT
DTSTART;TZID=America/Chicago:20251017T183000
DTEND;TZID=America/Chicago:20251017T200000
DTSTAMP:20260423T114839
CREATED:20250730T145111Z
LAST-MODIFIED:20250923T204655Z
UID:6954-1760725800-1760731200@mcfaddin-ward.org
SUMMARY:Music at the McFaddins’ Outdoor Concert Series Featuring Jimmy Simmons & Friends
DESCRIPTION:Join us on Friday\, October 17 for an evening of fantastic sounds on our beautiful grounds at Music at the McFaddins’ Outdoor Concert Series featuring Jimmy Simmons and Friends. Gates open at 6 p.m. with music beginning at 6:30 p.m. on the McFaddin-Ward House lawn (1906 McFaddin Ave.\, Beaumont). \nSimmons and his band will perform a wide variety of classics from the big band era through modern day hits. Attendees are encouraged to bring blankets\, chairs\, and refreshments as they gather in the historic home’s gorgeous gardens to enjoy a great evening of live entertainment. \nPresident Emeritus of Lamar University and a member of the faculty and leadership team for more than four decades\, Dr. Simmons is an accomplished musician who has played alongside the famous from Frank Sinatra to Johnny Winter. He is a talented orchestra leader with an active performance career. \nThe event is admission-free and open to the public. In case of inclement weather\, Music at the McFaddins’ will be cancelled. \nMusic at the McFaddins’ featuring Jimmy Simmons & Friends is part of the annual Museum Madness Weekend (Oct. 16-19)\, presented by the Beaumont Convention and Visitors Bureau and supporting area museums. The Art Museum of Southeast Texas\, Beaumont Botanical Gardens\, Beaumont Children’s Museum\, Beaumont Main Street\, Dishman Art Museum at Lamar University\, Edison Museum\, Fire Museum of Texas\, Historic Magnolia Cemetery\, John Jay French Museum\, McFaddin-Ward House Museum\, Museum of the Gulf Coast\, Spindletop-Gladys City Boomtown Museum\, Temple to the Brave\, Texas Energy Museum\, and Tyrrell Park Nature Center are each hosting events for a fun-filled weekend in Jefferson County. \nFor more information\, call 409.832.2134.
URL:https://mcfaddin-ward.org/event/music-at-the-mcfaddins-outdoor-concert-series-featuring-jimmy-simmons-friends/
LOCATION:McFaddin-Ward House\, 1906 McFaddin\, Beaumont TX\, 1906 Calder Avenue\, Beaumont\, TX\, 77705\, United States
CATEGORIES:Music at the McFaddin's
ATTACH;FMTTYPE=image/jpeg:https://mcfaddin-ward.org/wp-content/uploads/2025/07/10-17-25-Music-Night-Website-Event-Graphics-1.jpg
END:VEVENT
END:VCALENDAR