BEGIN:VCALENDAR
VERSION:2.0
PRODID:-//The McFaddin-Ward House - ECPv6.15.20//NONSGML v1.0//EN
CALSCALE:GREGORIAN
METHOD:PUBLISH
X-ORIGINAL-URL:https://mcfaddin-ward.org
X-WR-CALDESC:Events for The McFaddin-Ward House
REFRESH-INTERVAL;VALUE=DURATION:PT1H
X-Robots-Tag:noindex
X-PUBLISHED-TTL:PT1H
BEGIN:VTIMEZONE
TZID:America/Chicago
BEGIN:DAYLIGHT
TZOFFSETFROM:-0600
TZOFFSETTO:-0500
TZNAME:CDT
DTSTART:20250309T080000
END:DAYLIGHT
BEGIN:STANDARD
TZOFFSETFROM:-0500
TZOFFSETTO:-0600
TZNAME:CST
DTSTART:20251102T070000
END:STANDARD
BEGIN:DAYLIGHT
TZOFFSETFROM:-0600
TZOFFSETTO:-0500
TZNAME:CDT
DTSTART:20260308T080000
END:DAYLIGHT
BEGIN:STANDARD
TZOFFSETFROM:-0500
TZOFFSETTO:-0600
TZNAME:CST
DTSTART:20261101T070000
END:STANDARD
BEGIN:DAYLIGHT
TZOFFSETFROM:-0600
TZOFFSETTO:-0500
TZNAME:CDT
DTSTART:20270314T080000
END:DAYLIGHT
BEGIN:STANDARD
TZOFFSETFROM:-0500
TZOFFSETTO:-0600
TZNAME:CST
DTSTART:20271107T070000
END:STANDARD
END:VTIMEZONE
BEGIN:VEVENT
DTSTART;TZID=America/Chicago:20261008T183000
DTEND;TZID=America/Chicago:20261008T200000
DTSTAMP:20260421T160932
CREATED:20260209T170000Z
LAST-MODIFIED:20260318T203527Z
UID:7289-1791484200-1791489600@mcfaddin-ward.org
SUMMARY:Music at the McFaddins’ Outdoor Concert featuring Curse and the Cure
DESCRIPTION:Join us on Thursday\, October 8\, for an evening of soulful sounds on our beautiful grounds at Music at the McFaddins’ featuring Curse and the Cure\, a Southeast Texas acoustic duo. Gates open at 6 p.m. with music beginning at 6:30 p.m. on the McFaddin-Ward House lawn (1906 McFaddin Ave.\, Beaumont). \nAttendees are encouraged to bring blankets\, chairs\, and refreshments as they gather in the historic home’s gorgeous gardens to enjoy a great evening of live entertainment. \nThe event is admission-free and open to the public. \nIn case of inclement weather\, the Music at the McFaddins’ will be cancelled. \nFor more information\, call 409-832-2134.
URL:https://mcfaddin-ward.org/event/music-at-the-mcfaddins-outdoor-concert-2/
LOCATION:McFaddin-Ward House\, 1906 McFaddin\, Beaumont TX\, 1906 Calder Avenue\, Beaumont\, TX\, 77705\, United States
CATEGORIES:Free Events,Music at the McFaddin's
ATTACH;FMTTYPE=image/jpeg:https://mcfaddin-ward.org/wp-content/uploads/2026/02/10-8-26-Music-Event-Curse-the-Cure.jpg
END:VEVENT
BEGIN:VEVENT
DTSTART;TZID=America/Chicago:20261119T183000
DTEND;TZID=America/Chicago:20261119T200000
DTSTAMP:20260421T160932
CREATED:20260209T170239Z
LAST-MODIFIED:20260420T161405Z
UID:7291-1795113000-1795118400@mcfaddin-ward.org
SUMMARY:Music at the McFaddins’ Outdoor Concert Featuring The Golden Triangle Big Band
DESCRIPTION:Join us on Thursday\, November 19 for Music at the McFaddins’ featuring The Golden Triangle Big Band. Gates open at 6 p.m. with music beginning at 6:30 p.m. on the McFaddin-Ward House lawn (1906 McFaddin Ave.\, Beaumont). \nThe Golden Triangle Big Band is an 18-piece jazz orchestra comprised of some of the most talented musicians in Southeast Texas. The band is dedicated to preserving the tradition of big band music and bringing it to life for audiences of all ages. \nAfter debuting as a band in 2023\, The Golden Triangle Big Band became a nonprofit organization in 2024. Their mission is to support jazz education and exposure to jazz music in the Southeast Texas area with FREE concerts. \nAttendees are encouraged to bring blankets\, chairs\, and refreshments as they gather in the historic home’s gorgeous gardens to enjoy a great evening of live entertainment. \nThe event is admission-free and open to all ages. \nIn case of inclement weather\, Music at the McFaddins’ will be cancelled. \nFor more information\, call 409-832-2134.
URL:https://mcfaddin-ward.org/event/music-at-the-mcfaddins-outdoor-concert-3/
LOCATION:McFaddin-Ward House\, 1906 McFaddin\, Beaumont TX\, 1906 Calder Avenue\, Beaumont\, TX\, 77705\, United States
CATEGORIES:Free Events,Music at the McFaddin's
ATTACH;FMTTYPE=image/jpeg:https://mcfaddin-ward.org/wp-content/uploads/2026/02/11-19-26-Music-Event-GTBB.jpg
END:VEVENT
END:VCALENDAR