BEGIN:VCALENDAR
VERSION:2.0
PRODID:-//The McFaddin-Ward House - ECPv6.15.20//NONSGML v1.0//EN
CALSCALE:GREGORIAN
METHOD:PUBLISH
X-ORIGINAL-URL:https://mcfaddin-ward.org
X-WR-CALDESC:Events for The McFaddin-Ward House
REFRESH-INTERVAL;VALUE=DURATION:PT1H
X-Robots-Tag:noindex
X-PUBLISHED-TTL:PT1H
BEGIN:VTIMEZONE
TZID:America/Chicago
BEGIN:DAYLIGHT
TZOFFSETFROM:-0600
TZOFFSETTO:-0500
TZNAME:CDT
DTSTART:20200308T080000
END:DAYLIGHT
BEGIN:STANDARD
TZOFFSETFROM:-0500
TZOFFSETTO:-0600
TZNAME:CST
DTSTART:20201101T070000
END:STANDARD
BEGIN:DAYLIGHT
TZOFFSETFROM:-0600
TZOFFSETTO:-0500
TZNAME:CDT
DTSTART:20210314T080000
END:DAYLIGHT
BEGIN:STANDARD
TZOFFSETFROM:-0500
TZOFFSETTO:-0600
TZNAME:CST
DTSTART:20211107T070000
END:STANDARD
BEGIN:DAYLIGHT
TZOFFSETFROM:-0600
TZOFFSETTO:-0500
TZNAME:CDT
DTSTART:20220313T080000
END:DAYLIGHT
BEGIN:STANDARD
TZOFFSETFROM:-0500
TZOFFSETTO:-0600
TZNAME:CST
DTSTART:20221106T070000
END:STANDARD
END:VTIMEZONE
BEGIN:VEVENT
DTSTART;TZID=America/Chicago:20211205T120000
DTEND;TZID=America/Chicago:20211205T150000
DTSTAMP:20260423T092134
CREATED:20211101T212540Z
LAST-MODIFIED:20211105T135937Z
UID:4300-1638705600-1638716400@mcfaddin-ward.org
SUMMARY:Holiday Photo Shoot
DESCRIPTION:Join us for the McFaddin-Ward House Annual Photo Shoot on Sunday\, December 5th to have your holiday photo taken in front of our historic home!\n\nPhoto reservation appointments will be available from noon – 3 p.m.\n\nA limited number of appointments are available so make your reservations early!\n\nA professional photographer will take three photos of you and your loved ones. Your photos will be emailed to you the following week.\n\nTo reserve your spot\, call 409.832.2134.\n\n*In the event of inclement weather\, the holiday photo shoot will be cancelled.*
URL:https://mcfaddin-ward.org/event/holiday-photo-shoot/
LOCATION:McFaddin-Ward House\, 1906 McFaddin Avenue\, Beaumont\, TX\, 77701\, United States
CATEGORIES:Christmas,Free Events
ATTACH;FMTTYPE=image/jpeg:https://mcfaddin-ward.org/wp-content/uploads/2021/11/24297151_10155936455756972_2635095484942516319_o.jpg
END:VEVENT
END:VCALENDAR