BEGIN:VCALENDAR
VERSION:2.0
PRODID:-//The McFaddin-Ward House - ECPv6.15.20//NONSGML v1.0//EN
CALSCALE:GREGORIAN
METHOD:PUBLISH
X-ORIGINAL-URL:https://mcfaddin-ward.org
X-WR-CALDESC:Events for The McFaddin-Ward House
REFRESH-INTERVAL;VALUE=DURATION:PT1H
X-Robots-Tag:noindex
X-PUBLISHED-TTL:PT1H
BEGIN:VTIMEZONE
TZID:America/Chicago
BEGIN:DAYLIGHT
TZOFFSETFROM:-0600
TZOFFSETTO:-0500
TZNAME:CDT
DTSTART:20250309T080000
END:DAYLIGHT
BEGIN:STANDARD
TZOFFSETFROM:-0500
TZOFFSETTO:-0600
TZNAME:CST
DTSTART:20251102T070000
END:STANDARD
BEGIN:DAYLIGHT
TZOFFSETFROM:-0600
TZOFFSETTO:-0500
TZNAME:CDT
DTSTART:20260308T080000
END:DAYLIGHT
BEGIN:STANDARD
TZOFFSETFROM:-0500
TZOFFSETTO:-0600
TZNAME:CST
DTSTART:20261101T070000
END:STANDARD
BEGIN:DAYLIGHT
TZOFFSETFROM:-0600
TZOFFSETTO:-0500
TZNAME:CDT
DTSTART:20270314T080000
END:DAYLIGHT
BEGIN:STANDARD
TZOFFSETFROM:-0500
TZOFFSETTO:-0600
TZNAME:CST
DTSTART:20271107T070000
END:STANDARD
END:VTIMEZONE
BEGIN:VEVENT
DTSTART;TZID=America/Chicago:20260730T170000
DTEND;TZID=America/Chicago:20260730T183000
DTSTAMP:20260424T024408
CREATED:20260105T160903Z
LAST-MODIFIED:20260423T150202Z
UID:7255-1785430800-1785436200@mcfaddin-ward.org
SUMMARY:Teacher Happy Hour
DESCRIPTION:The McFaddin-Ward House Museum wants to show our love for area teachers and administrators at our Teacher Appreciation Happy Hour! \nJoin us on Thursday\, July 30\, from 5 to 6:30 p.m. in the museum’s Visitor Center (located at 1906 Calder Avenue in Beaumont) for great food\, drinks\, and door prizes. \nEnjoy a walk-through tour of the first floor of the historic McFaddin-Ward House and learn more about field trip opportunities at the museum. \nFor more information\, call 409-832-1906. \nRegistration is recommended but not required. \nRegistration Opens: June 18.
URL:https://mcfaddin-ward.org/event/teacher-happy-hour/
LOCATION:McFaddin-Ward House Visitor Center\, 1906 Calder\, Beaumont\, TX\, 77701\, United States
CATEGORIES:Free Events,Teacher Events
ATTACH;FMTTYPE=image/jpeg:https://mcfaddin-ward.org/wp-content/uploads/2026/01/Teacher-Appreciation-Happy-Hour-Web-Graphics-July-2026.jpg
END:VEVENT
END:VCALENDAR