BEGIN:VCALENDAR
VERSION:2.0
PRODID:-//The McFaddin-Ward House - ECPv6.15.20//NONSGML v1.0//EN
CALSCALE:GREGORIAN
METHOD:PUBLISH
X-ORIGINAL-URL:https://mcfaddin-ward.org
X-WR-CALDESC:Events for The McFaddin-Ward House
REFRESH-INTERVAL;VALUE=DURATION:PT1H
X-Robots-Tag:noindex
X-PUBLISHED-TTL:PT1H
BEGIN:VTIMEZONE
TZID:America/Chicago
BEGIN:DAYLIGHT
TZOFFSETFROM:-0600
TZOFFSETTO:-0500
TZNAME:CDT
DTSTART:20130310T080000
END:DAYLIGHT
BEGIN:STANDARD
TZOFFSETFROM:-0500
TZOFFSETTO:-0600
TZNAME:CST
DTSTART:20131103T070000
END:STANDARD
BEGIN:DAYLIGHT
TZOFFSETFROM:-0600
TZOFFSETTO:-0500
TZNAME:CDT
DTSTART:20140309T080000
END:DAYLIGHT
BEGIN:STANDARD
TZOFFSETFROM:-0500
TZOFFSETTO:-0600
TZNAME:CST
DTSTART:20141102T070000
END:STANDARD
BEGIN:DAYLIGHT
TZOFFSETFROM:-0600
TZOFFSETTO:-0500
TZNAME:CDT
DTSTART:20150308T080000
END:DAYLIGHT
BEGIN:STANDARD
TZOFFSETFROM:-0500
TZOFFSETTO:-0600
TZNAME:CST
DTSTART:20151101T070000
END:STANDARD
BEGIN:DAYLIGHT
TZOFFSETFROM:-0600
TZOFFSETTO:-0500
TZNAME:CDT
DTSTART:20160313T080000
END:DAYLIGHT
BEGIN:STANDARD
TZOFFSETFROM:-0500
TZOFFSETTO:-0600
TZNAME:CST
DTSTART:20161106T070000
END:STANDARD
BEGIN:DAYLIGHT
TZOFFSETFROM:-0600
TZOFFSETTO:-0500
TZNAME:CDT
DTSTART:20170312T080000
END:DAYLIGHT
BEGIN:STANDARD
TZOFFSETFROM:-0500
TZOFFSETTO:-0600
TZNAME:CST
DTSTART:20171105T070000
END:STANDARD
BEGIN:DAYLIGHT
TZOFFSETFROM:-0600
TZOFFSETTO:-0500
TZNAME:CDT
DTSTART:20180311T080000
END:DAYLIGHT
BEGIN:STANDARD
TZOFFSETFROM:-0500
TZOFFSETTO:-0600
TZNAME:CST
DTSTART:20181104T070000
END:STANDARD
BEGIN:DAYLIGHT
TZOFFSETFROM:-0600
TZOFFSETTO:-0500
TZNAME:CDT
DTSTART:20190310T080000
END:DAYLIGHT
BEGIN:STANDARD
TZOFFSETFROM:-0500
TZOFFSETTO:-0600
TZNAME:CST
DTSTART:20191103T070000
END:STANDARD
BEGIN:DAYLIGHT
TZOFFSETFROM:-0600
TZOFFSETTO:-0500
TZNAME:CDT
DTSTART:20200308T080000
END:DAYLIGHT
BEGIN:STANDARD
TZOFFSETFROM:-0500
TZOFFSETTO:-0600
TZNAME:CST
DTSTART:20201101T070000
END:STANDARD
BEGIN:DAYLIGHT
TZOFFSETFROM:-0600
TZOFFSETTO:-0500
TZNAME:CDT
DTSTART:20210314T080000
END:DAYLIGHT
BEGIN:STANDARD
TZOFFSETFROM:-0500
TZOFFSETTO:-0600
TZNAME:CST
DTSTART:20211107T070000
END:STANDARD
BEGIN:DAYLIGHT
TZOFFSETFROM:-0600
TZOFFSETTO:-0500
TZNAME:CDT
DTSTART:20220313T080000
END:DAYLIGHT
BEGIN:STANDARD
TZOFFSETFROM:-0500
TZOFFSETTO:-0600
TZNAME:CST
DTSTART:20221106T070000
END:STANDARD
BEGIN:DAYLIGHT
TZOFFSETFROM:-0600
TZOFFSETTO:-0500
TZNAME:CDT
DTSTART:20230312T080000
END:DAYLIGHT
BEGIN:STANDARD
TZOFFSETFROM:-0500
TZOFFSETTO:-0600
TZNAME:CST
DTSTART:20231105T070000
END:STANDARD
BEGIN:DAYLIGHT
TZOFFSETFROM:-0600
TZOFFSETTO:-0500
TZNAME:CDT
DTSTART:20240310T080000
END:DAYLIGHT
BEGIN:STANDARD
TZOFFSETFROM:-0500
TZOFFSETTO:-0600
TZNAME:CST
DTSTART:20241103T070000
END:STANDARD
BEGIN:DAYLIGHT
TZOFFSETFROM:-0600
TZOFFSETTO:-0500
TZNAME:CDT
DTSTART:20250309T080000
END:DAYLIGHT
BEGIN:STANDARD
TZOFFSETFROM:-0500
TZOFFSETTO:-0600
TZNAME:CST
DTSTART:20251102T070000
END:STANDARD
END:VTIMEZONE
BEGIN:VEVENT
DTSTART;TZID=America/Chicago:20240426T193000
DTEND;TZID=America/Chicago:20240426T220000
DTSTAMP:20260421T194730
CREATED:20240325T184222Z
LAST-MODIFIED:20240419T132659Z
UID:6354-1714159800-1714168800@mcfaddin-ward.org
SUMMARY:Movies at the McFaddins’ Bring Your Own Dog Night: “Homeward Bound: The Incredible Journey”
DESCRIPTION:BYOD – BRING YOUR OWN DOG OUTDOOR MOVIE NIGHT  \n\nDog owners are invited to bring their furry friends to Movies at the McFaddins’ featuring “Homeward Bound: The Incredible Journey” (©Walt Disney Pictures) on Friday\, April 26.  \n\nAttendees are encouraged to bring blankets\, chairs\, and snacks as they gather on the historic home’s grounds to enjoy a family-friendly film with their canine and other friends. Dog treats will be available at the door\, and water will be provided. All dogs must be on a leash. \n\nGates open at 7:30 p.m. and the film will begin at dusk on the museum lawn (1906 McFaddin Ave.\, Beaumont). The event is admission-free and open to the public. \n\nIn case of inclement weather\, Movies at the McFaddins’ will be cancelled. \n\nFor more information\, call 409.832.1906.
URL:https://mcfaddin-ward.org/event/movies-at-the-mcfaddins-dog-friendly-feature-homeward-bound-the-incredible-journey/
LOCATION:McFaddin-Ward House\, 1906 McFaddin Avenue\, Beaumont\, TX\, 77701\, United States
CATEGORIES:Free Events,Movie Night
ATTACH;FMTTYPE=image/png:https://mcfaddin-ward.org/wp-content/uploads/2024/03/Apr-26-Movie-Night_Event-Graphics.png
END:VEVENT
BEGIN:VEVENT
DTSTART;TZID=America/Chicago:20221111T180000
DTEND;TZID=America/Chicago:20221111T200000
DTSTAMP:20260421T194730
CREATED:20221006T210055Z
LAST-MODIFIED:20221110T201041Z
UID:4820-1668189600-1668196800@mcfaddin-ward.org
SUMMARY:Movies at the McFaddins Presents: Coco
DESCRIPTION:⚠️IMPORTANT ANNOUNCEMENT⚠️ \nRegrettably\, we must cancel the movie night featuring ©Disney/Pixar’s Coco\, scheduled for tomorrow\, Friday\, Nov. 11th as the weather forecast\, once again\, predicts a high chance of rain. \nWe hope to host more Movies at the McFaddins free movie night events during our Spring 2023 programming season. Stay tuned to our social media and website for the latest museum news and upcoming events. \nThank you for your interest and continued support.
URL:https://mcfaddin-ward.org/event/movies-at-the-mcfaddins-presents-coco/
LOCATION:McFaddin-Ward House\, 1906 McFaddin\, Beaumont TX\, 1906 Calder Avenue\, Beaumont\, TX\, 77705\, United States
CATEGORIES:Free Events,Movie Night
ATTACH;FMTTYPE=image/jpeg:https://mcfaddin-ward.org/wp-content/uploads/2022/10/Cancelled-Movie-Night-Facebook-Post.jpg
END:VEVENT
BEGIN:VEVENT
DTSTART;TZID=America/Chicago:20220721T193000
DTEND;TZID=America/Chicago:20220721T210000
DTSTAMP:20260421T194730
CREATED:20210601T195745Z
LAST-MODIFIED:20220511T212323Z
UID:4012-1658431800-1658437200@mcfaddin-ward.org
SUMMARY:Movies by the Decade: Singin' in the Rain
DESCRIPTION:Join the McFaddin-Ward House on the lawn for Movies by the Decade\, a free summer series showcasing films of yesteryear. \nThe final movie night of the series will be on Thursday\, July 21\, featuring the 50s film Singin’ in the Rain. The gates will open at 7:30 p.m. and the movie will begin at dusk. \nAttendees are encouraged to bring blankets\, chairs\, food\, and drink as they gather on the historic home’s lawn. \nIn case of inclement weather\, the event will be cancelled. For more information\, call 409.832.2134.
URL:https://mcfaddin-ward.org/event/movies-by-the-decade-3/
LOCATION:McFaddin-Ward House\, 1906 McFaddin Avenue\, Beaumont\, TX\, 77701\, United States
CATEGORIES:Free Events,Movie Night
ATTACH;FMTTYPE=image/png:https://mcfaddin-ward.org/wp-content/uploads/2021/06/Movies-by-the-Decade-FB-Event-Cover.png
END:VEVENT
BEGIN:VEVENT
DTSTART;TZID=America/Chicago:20220707T193000
DTEND;TZID=America/Chicago:20220707T220000
DTSTAMP:20260421T194730
CREATED:20210601T195653Z
LAST-MODIFIED:20220511T212009Z
UID:4010-1657222200-1657231200@mcfaddin-ward.org
SUMMARY:Movies by the Decade: Citizen Kane
DESCRIPTION:Join the McFaddin-Ward House on the lawn for Movies by the Decade\, a free summer series showcasing films of yesteryear. \nThe second movie night of the series will be on Thursday\, July 7\, featuring the 40s film Citizen Kane. The gates will open at 7:30 p.m. and the movie will begin at dusk. \nAttendees are encouraged to bring blankets\, chairs\, food\, and drink as they gather on the historic home’s lawn. \nIn case of inclement weather\, the event will be cancelled. For more information\, call 409.832.2134.
URL:https://mcfaddin-ward.org/event/movies-by-the-decade-2/
LOCATION:McFaddin-Ward House\, 1906 McFaddin Avenue\, Beaumont\, TX\, 77701\, United States
CATEGORIES:Free Events,Movie Night
ATTACH;FMTTYPE=image/png:https://mcfaddin-ward.org/wp-content/uploads/2021/06/Movies-by-the-Decade-FB-Event-Cover.png
END:VEVENT
BEGIN:VEVENT
DTSTART;TZID=America/Chicago:20220623T193000
DTEND;TZID=America/Chicago:20220623T220000
DTSTAMP:20260421T194730
CREATED:20210601T195558Z
LAST-MODIFIED:20220511T211837Z
UID:4008-1656012600-1656021600@mcfaddin-ward.org
SUMMARY:Movies by the Decade: Mr. Smith Goes to Washington
DESCRIPTION:Join the McFaddin-Ward House on the lawn for Movies by the Decade\, a free summer series showcasing films of yesteryear. \nThe first movie night will be on Thursday\, June 23 featuring the 30s film Mr. Smith Goes to Washington. The gates will open at 7:30 p.m. and the movie will begin at dusk. \nAttendees are encouraged to bring blankets\, chairs\, food\, and drink as they gather on the historic home’s lawn. \nIn case of inclement weather\, the event will be cancelled. For more information\, call 409.832.2134.
URL:https://mcfaddin-ward.org/event/movies-by-the-decade/
LOCATION:McFaddin-Ward House\, 1906 McFaddin Avenue\, Beaumont\, TX\, 77701\, United States
CATEGORIES:Free Events,Movie Night
ATTACH;FMTTYPE=image/png:https://mcfaddin-ward.org/wp-content/uploads/2021/06/Movies-by-the-Decade-FB-Event-Cover.png
END:VEVENT
BEGIN:VEVENT
DTSTART;TZID=America/Chicago:20160707T183000
DTEND;TZID=America/Chicago:20160707T203000
DTSTAMP:20260421T194730
CREATED:20160701T195438Z
LAST-MODIFIED:20160701T195942Z
UID:2595-1467916200-1467923400@mcfaddin-ward.org
SUMMARY:FREE MOVIE NIGHT EVENT!
DESCRIPTION:FREE MOVIE NIGHT continues with THE INTERN. Anne Hathaway and Robert DeNiro star in this adorable comedy about starting over.
URL:https://mcfaddin-ward.org/event/free-movie-night/
LOCATION:McFaddin-Ward House Visitor Center\, 1906 Calder\, Beaumont\, TX\, 77701\, United States
CATEGORIES:Free Events,Movie Night
ATTACH;FMTTYPE=image/jpeg:https://mcfaddin-ward.org/wp-content/uploads/2016/07/Intern.jpg
END:VEVENT
BEGIN:VEVENT
DTSTART;TZID=America/Chicago:20151210T183000
DTEND;TZID=America/Chicago:20151210T210000
DTSTAMP:20260421T194730
CREATED:20150414T154614Z
LAST-MODIFIED:20150414T154614Z
UID:1991-1449772200-1449781200@mcfaddin-ward.org
SUMMARY:Free Movie Nights: It's A Wonderful Life
DESCRIPTION:It’s the holiday film that needs no introduction\, “It’s A Wonderful Life.” \nStarring Jimmy Stewart and Donna Reed\, it’s one of Frank Capra’s most enduring films. Made in 1946\, this classic is still a Christmas favorite today. \nThis movie is free and open to the public\, popcorn and drinks included! Doors open at 6\, the movie starts at 6:30.
URL:https://mcfaddin-ward.org/event/free-movie-nights-its-a-wonderful-life/
LOCATION:Visitor Center\, 1906 Calder Avenue\, Beaumont\, TX\, 77701\, United States
CATEGORIES:Free Events,Movie Night
ATTACH;FMTTYPE=image/jpeg:https://mcfaddin-ward.org/wp-content/uploads/2015/04/Wonderful-LIfe.jpg
ORGANIZER;CN="Marcus Powers":MAILTO:mpowers@mcfaddin-ward.org
END:VEVENT
BEGIN:VEVENT
DTSTART;TZID=America/Chicago:20151015T170000
DTEND;TZID=America/Chicago:20151015T213000
DTSTAMP:20260421T194730
CREATED:20150617T185940Z
LAST-MODIFIED:20150617T185940Z
UID:2050-1444928400-1444944600@mcfaddin-ward.org
SUMMARY:Fall Community Picnic // Outdoor Movie
DESCRIPTION:Please join us for our fall community picnic on October 15th! \nBring the whole family\, spread out on the lawn\, enjoy some live music\, and pack a picnic. \nThe Port Arthur Playboys will be offering the live entertainment this go ’round\, so bring your dancing shoes! \nAnd this year\, we’re adding an outdoor movie! After the live music wraps up\, we’ll be showing a movie of YOUR choice. Vote here: http://svy.mk/1R9ppyY \nAs always\, this is free and open to the public.\nThe picnic is from 5-7:30 p.m.\nThe movie will begin at 7:30 p.m.
URL:https://mcfaddin-ward.org/event/fall-community-picnic-outdoor-movie/
LOCATION:McFaddin-Ward House\, 1906 McFaddin Avenue\, Beaumont\, TX\, 77701\, United States
CATEGORIES:Community Picnic,Free Events,Movie Night
ATTACH;FMTTYPE=image/jpeg:https://mcfaddin-ward.org/wp-content/uploads/2015/06/Picnic-Slider.jpg
ORGANIZER;CN="Marcus Powers":MAILTO:mpowers@mcfaddin-ward.org
END:VEVENT
BEGIN:VEVENT
DTSTART;TZID=America/Chicago:20151008T183000
DTEND;TZID=America/Chicago:20151008T210000
DTSTAMP:20260421T194730
CREATED:20150414T154434Z
LAST-MODIFIED:20150414T154434Z
UID:1989-1444329000-1444338000@mcfaddin-ward.org
SUMMARY:Free Movie Night: Teenagers From Outer Space
DESCRIPTION:Made on a shoestring budget\, “Teenagers from Outer Space” is a “classic” B-movie. \nMade in 1959\, this science fiction film falls squarely in the “so bad it’s good” category. \nA fun alternative to other Halloween movie\, this is a movie night the whole family can attend. \nThis movie is free and open to the public\, popcorn and drinks included! Doors open at 6\, the movie starts at 6:30.
URL:https://mcfaddin-ward.org/event/free-movie-night-teenagers-from-outer-space/
LOCATION:Visitor Center\, 1906 Calder Avenue\, Beaumont\, TX\, 77701\, United States
CATEGORIES:Free Events,Movie Night
ATTACH;FMTTYPE=image/jpeg:https://mcfaddin-ward.org/wp-content/uploads/2015/04/Teenagers.jpg
ORGANIZER;CN="Marcus Powers":MAILTO:mpowers@mcfaddin-ward.org
END:VEVENT
BEGIN:VEVENT
DTSTART;TZID=America/Chicago:20150910T183000
DTEND;TZID=America/Chicago:20150910T210000
DTSTAMP:20260421T194730
CREATED:20150414T154242Z
LAST-MODIFIED:20150414T154242Z
UID:1987-1441909800-1441918800@mcfaddin-ward.org
SUMMARY:Free Movie Night: Rebel Without a Cause
DESCRIPTION:Another free movie night\, another legendary Hollywood movie. \nReleased after its star’s untimely death\, “Rebel Without A Cause” is the classic tale of suburban disillusioned youth\, starring James Dean. \nThis movie is free and open to the public\, popcorn and drinks included! Doors open at 6\, the movie starts at 6:30.
URL:https://mcfaddin-ward.org/event/free-movie-night-rebel-without-a-cause/
LOCATION:Visitor Center\, 1906 Calder Avenue\, Beaumont\, TX\, 77701\, United States
CATEGORIES:Free Events,Movie Night
ATTACH;FMTTYPE=image/jpeg:https://mcfaddin-ward.org/wp-content/uploads/2015/04/Rebel.jpg
ORGANIZER;CN="Marcus Powers":MAILTO:mpowers@mcfaddin-ward.org
END:VEVENT
BEGIN:VEVENT
DTSTART;TZID=America/Chicago:20150813T183000
DTEND;TZID=America/Chicago:20150813T210000
DTSTAMP:20260421T194730
CREATED:20150414T154045Z
LAST-MODIFIED:20150414T154045Z
UID:1985-1439490600-1439499600@mcfaddin-ward.org
SUMMARY:Free Movie Nights: His Girl Friday
DESCRIPTION:Starring Cary Grant and Rosalin Russell\, “His Girl Friday” is often called one of the best screwball comedies ever. \nMade in 1940\, this film appears on all sorts of “Best Of” lists. And you can see it for free at the McFaddin-Ward House! \nThis movie is free and open to the public\, popcorn and drinks included! Doors open at 6\, the movie starts at 6:30.
URL:https://mcfaddin-ward.org/event/free-movie-nights-his-girl-friday/
LOCATION:Visitor Center\, 1906 Calder Avenue\, Beaumont\, TX\, 77701\, United States
CATEGORIES:Free Events,Movie Night
ATTACH;FMTTYPE=image/jpeg:https://mcfaddin-ward.org/wp-content/uploads/2015/04/His-Girl-Friday.jpg
ORGANIZER;CN="Marcus Powers":MAILTO:mpowers@mcfaddin-ward.org
END:VEVENT
BEGIN:VEVENT
DTSTART;TZID=America/Chicago:20150709T183000
DTEND;TZID=America/Chicago:20150709T213000
DTSTAMP:20260421T194730
CREATED:20150414T153841Z
LAST-MODIFIED:20150414T153841Z
UID:1983-1436466600-1436477400@mcfaddin-ward.org
SUMMARY:Free Movie Night: Charade
DESCRIPTION:Join us for the classic movie caper “Charade\,” starring a pair of Hollywood legends\, Cary Grant and Audrey Hepburn. \nThis screwball thriller spans three different genres and offers something for everyone. Made in 1963\, Charade has been called the “best Hitchcock film Hitchcock never made.” \nThis movie is free and open to the public\, popcorn and drinks included! Doors open at 6\, the movie starts at 6:30.
URL:https://mcfaddin-ward.org/event/free-movie-night-charade/
LOCATION:Visitor Center\, 1906 Calder Avenue\, Beaumont\, TX\, 77701\, United States
CATEGORIES:Free Events,Movie Night
ATTACH;FMTTYPE=image/jpeg:https://mcfaddin-ward.org/wp-content/uploads/2015/04/Charad.jpg
ORGANIZER;CN="Marcus Powers":MAILTO:mpowers@mcfaddin-ward.org
END:VEVENT
BEGIN:VEVENT
DTSTART;TZID=America/Chicago:20150611T183000
DTEND;TZID=America/Chicago:20150611T213000
DTSTAMP:20260421T194730
CREATED:20150414T153628Z
LAST-MODIFIED:20150414T153628Z
UID:1981-1434047400-1434058200@mcfaddin-ward.org
SUMMARY:Free Movie Night: Seven Brides for Seven Brothers
DESCRIPTION:Our Free Movie Nights are back for 2015\, and we’re kicking things off with a classic Hollywood musical! \n“Seven Brides for Seven Brothers” stars Jane Powell and Howard Keel\, in a tale set in rough-and-tumble Oregon in 1850. \nThis movie is free and open to the public\, popcorn and drinks included! Doors open at 6\, the movie starts at 6:30. \nBring the whole family for this one!
URL:https://mcfaddin-ward.org/event/free-movie-night-seven-brides-for-seven-brothers/
LOCATION:Visitor Center\, 1906 Calder Avenue\, Beaumont\, TX\, 77701\, United States
CATEGORIES:Free Events,Movie Night
ATTACH;FMTTYPE=image/jpeg:https://mcfaddin-ward.org/wp-content/uploads/2015/04/Seven-Brides.jpg
ORGANIZER;CN="Marcus Powers":MAILTO:mpowers@mcfaddin-ward.org
END:VEVENT
BEGIN:VEVENT
DTSTART;TZID=America/Chicago:20141211T183000
DTEND;TZID=America/Chicago:20141211T210000
DTSTAMP:20260421T194730
CREATED:20141105T214925Z
LAST-MODIFIED:20141105T214925Z
UID:1904-1418322600-1418331600@mcfaddin-ward.org
SUMMARY:Movie Night: "White Christmas"
DESCRIPTION:It’s a Christmas classic that’s beloved by generations. The famous musical “White Christmas” is the latest installment in our free movie night series! \nCheck out this holiday flick with your whole family. It’s free\, open to the public\, and is the perfect way to get friends and family together for a night. \nDrinks and popcorn included! Call (409) 832-1906 for more information.
URL:https://mcfaddin-ward.org/event/movie-night-white-christmas/
LOCATION:Visitor Center\, 1906 Calder Avenue\, Beaumont\, TX\, 77701\, United States
CATEGORIES:Free Events,Movie Night
ATTACH;FMTTYPE=image/jpeg:https://mcfaddin-ward.org/wp-content/uploads/2014/11/WhiteChristmasSlider.jpg
ORGANIZER;CN="Marcus Powers":MAILTO:mpowers@mcfaddin-ward.org
END:VEVENT
BEGIN:VEVENT
DTSTART;TZID=America/Chicago:20141023T183000
DTEND;TZID=America/Chicago:20141023T210000
DTSTAMP:20260421T194730
CREATED:20140827T142514Z
LAST-MODIFIED:20140827T150356Z
UID:1875-1414089000-1414098000@mcfaddin-ward.org
SUMMARY:Movie Night: "The Alligator People"
DESCRIPTION:“Have you ever seen a nightmare crawling?” \nIt’s the latest entry in our free movie nights series\, and we’re feeling the spirit of the season with this one. \n“The Alligator People” (1959) is set in the Louisiana swamps. It follows the mysterious doings surrounding a family’s plantation deep in the bayou where some strange things are happening to people. \nIt’s a good\, old-fashioned monster B-movie… with some Cajun flair. \nAs always\, this movie night is free and open to the public. Visit our website\, mcfaddin-ward.org\, or call (409) 832-1906 for more information! Doors at 6\, movie starts at 6:30 pm. \n \n 
URL:https://mcfaddin-ward.org/event/movie-night-alligator-people/
LOCATION:Visitor Center\, 1906 Calder Avenue\, Beaumont\, TX\, 77701\, United States
CATEGORIES:Free Events,Movie Night
ATTACH;FMTTYPE=image/jpeg:https://mcfaddin-ward.org/wp-content/uploads/2014/08/AlligatorPeopleForWeb.jpg
ORGANIZER;CN="Marcus Powers":MAILTO:mpowers@mcfaddin-ward.org
END:VEVENT
BEGIN:VEVENT
DTSTART;TZID=America/Chicago:20140828T183000
DTEND;TZID=America/Chicago:20140828T210000
DTSTAMP:20260421T194730
CREATED:20140721T141012Z
LAST-MODIFIED:20140721T141012Z
UID:1866-1409250600-1409259600@mcfaddin-ward.org
SUMMARY:Movie Night: "Meet John Doe"
DESCRIPTION:Frank Capra\, Gary Cooper\, Barbara Stanwyck. Three Hollywood legends\, one classic movie.\n\nJoin us for our latest Free Movie Night\, as we screen the 1941 film “Meet John Doe.” \nDirected by the legendary Frank Capra\, this comedy-drama is about a grassroots political campaign created unwittingly by a newspaper columnist an…d pursued by a wealthy businessman. It was a box office hit and was nominated for an Academy Award for Best Story. . \nAs always\, this movie night is free and open to the public. Visit our website\, mcfaddin-ward.org\, or call (409) 832-1906 for more information! Doors at 6\, movie starts at 6:30 pm.\n 
URL:https://mcfaddin-ward.org/event/movie-night-meet-john-doe/
LOCATION:Visitor Center\, 1906 Calder Avenue\, Beaumont\, TX\, 77701\, United States
CATEGORIES:Free Events,Movie Night
ATTACH;FMTTYPE=image/jpeg:https://mcfaddin-ward.org/wp-content/uploads/2014/07/MeetJohnDoeForWeb.jpg
ORGANIZER;CN="Marcus Powers":MAILTO:mpowers@mcfaddin-ward.org
END:VEVENT
BEGIN:VEVENT
DTSTART;TZID=America/Chicago:20140710T183000
DTEND;TZID=America/Chicago:20140710T210000
DTSTAMP:20260421T194730
CREATED:20140602T201755Z
LAST-MODIFIED:20140602T211458Z
UID:1819-1405017000-1405026000@mcfaddin-ward.org
SUMMARY:Movie Night: "Desk Set"
DESCRIPTION:Cool off from the dog days of summer with this classic romantic comedy.Featuring the legendary Hollywood pairing of Katharine Hepburn and Spencer Tracy\, “Desk Set” features Hepburn as Bunny Watson\, the head of the research department at a television network. When Richard Summer –played by Tracy– shows up to introdu…ce computers into the department\, sparks fly between the two. As the tension mounts in the office\, so do the laughs. \nIt’s a perfect way to spend a hot summer night. Completely free and open to the public (as always)\, and with free drinks and popcorn. Bring the whole family! \n\n 
URL:https://mcfaddin-ward.org/event/movie-night-desk-set/
LOCATION:Visitor Center\, 1906 Calder Avenue\, Beaumont\, TX\, 77701\, United States
CATEGORIES:Free Events,Movie Night
ATTACH;FMTTYPE=image/jpeg:https://mcfaddin-ward.org/wp-content/uploads/2014/06/DeskSetForWeb.jpg
ORGANIZER;CN="Marcus Powers":MAILTO:mpowers@mcfaddin-ward.org
END:VEVENT
BEGIN:VEVENT
DTSTART;TZID=America/Chicago:20140612T183000
DTEND;TZID=America/Chicago:20140612T210000
DTSTAMP:20260421T194730
CREATED:20140602T202100Z
LAST-MODIFIED:20140602T211545Z
UID:1821-1402597800-1402606800@mcfaddin-ward.org
SUMMARY:Movie Night: "Guys & Dolls"
DESCRIPTION:We’re kicking off our 2014 movie series with the bona fide classic “Guys & Dolls.” \n\nStarring Frank Sinatra\, Vivian Blaine\, Marlon Brando\, and Jean Simmons\, this 1955 movie musical promises to be a good time for the whole family. \nFrom Amazon: …\n“Featuring hits like “Luck Be a Lady” and “A Woman in Love\,” this smash film version of one of Broadway’s most popular musicals is guaranteed\, rip-roaring “four-star entertainment” (New York Daily News). The slickest big-time New York City gamblers\, Sky Masterson (Brando) and Nathan Detroit (Sinatra)\, can’t resist making or taking a bet on anything. So when a pretty missionary (Simmons) sets up shop in the neighborhood\, Nathan stakes a grand that Sky can’t seduce her. But all bets are off when Sky falls madly in love in this romantic musical spectacular that sets the Big Apple afire with excitement!” \nAs with all our movie nights\, this is open to the public and absolutely free. Popcorn and drinks are also on the house! \n\n 
URL:https://mcfaddin-ward.org/event/movie-night-guys-dolls/
LOCATION:Visitor Center\, 1906 Calder Avenue\, Beaumont\, TX\, 77701\, United States
CATEGORIES:Free Events,Movie Night
ATTACH;FMTTYPE=image/jpeg:https://mcfaddin-ward.org/wp-content/uploads/2014/06/GuysAndDollsForWeb.jpg
ORGANIZER;CN="Marcus Powers":MAILTO:mpowers@mcfaddin-ward.org
END:VEVENT
END:VCALENDAR