BEGIN:VCALENDAR
VERSION:2.0
PRODID:-//The McFaddin-Ward House - ECPv6.15.20//NONSGML v1.0//EN
CALSCALE:GREGORIAN
METHOD:PUBLISH
X-WR-CALNAME:The McFaddin-Ward House
X-ORIGINAL-URL:https://mcfaddin-ward.org
X-WR-CALDESC:Events for The McFaddin-Ward House
REFRESH-INTERVAL;VALUE=DURATION:PT1H
X-Robots-Tag:noindex
X-PUBLISHED-TTL:PT1H
BEGIN:VTIMEZONE
TZID:America/Chicago
BEGIN:DAYLIGHT
TZOFFSETFROM:-0600
TZOFFSETTO:-0500
TZNAME:CDT
DTSTART:20130310T080000
END:DAYLIGHT
BEGIN:STANDARD
TZOFFSETFROM:-0500
TZOFFSETTO:-0600
TZNAME:CST
DTSTART:20131103T070000
END:STANDARD
BEGIN:DAYLIGHT
TZOFFSETFROM:-0600
TZOFFSETTO:-0500
TZNAME:CDT
DTSTART:20140309T080000
END:DAYLIGHT
BEGIN:STANDARD
TZOFFSETFROM:-0500
TZOFFSETTO:-0600
TZNAME:CST
DTSTART:20141102T070000
END:STANDARD
BEGIN:DAYLIGHT
TZOFFSETFROM:-0600
TZOFFSETTO:-0500
TZNAME:CDT
DTSTART:20150308T080000
END:DAYLIGHT
BEGIN:STANDARD
TZOFFSETFROM:-0500
TZOFFSETTO:-0600
TZNAME:CST
DTSTART:20151101T070000
END:STANDARD
END:VTIMEZONE
BEGIN:VEVENT
DTSTART;TZID=America/Chicago:20140929T184500
DTEND;TZID=America/Chicago:20140929T200000
DTSTAMP:20260422T225708
CREATED:20140421T194000Z
LAST-MODIFIED:20140602T211344Z
UID:1797-1412016300-1412020800@mcfaddin-ward.org
SUMMARY:Mondays at the Museum
DESCRIPTION:The McFaddin-Ward House and LoveYoga are excited to bring you Mondays at the Museum. \nThe McFaddin-Ward House will open up its lawn on the last Monday of the month for a little bit of yoga and a lot of scenic surroundings. \nJoin us on the east lawn of the museum for a donation-based session. \nIt all starts at 6:45 pm!
URL:https://mcfaddin-ward.org/event/mondays-museum-2014-09-28/
LOCATION:McFaddin-Ward House\, 1906 McFaddin Avenue\, Beaumont\, TX\, 77701\, United States
CATEGORIES:Mondays at the Museum
ATTACH;FMTTYPE=image/jpeg:https://mcfaddin-ward.org/wp-content/uploads/2014/04/MondaysAtTheMuseum.jpg
ORGANIZER;CN="Marcus Powers":MAILTO:mpowers@mcfaddin-ward.org
END:VEVENT
BEGIN:VEVENT
DTSTART;TZID=America/Chicago:20140825T184500
DTEND;TZID=America/Chicago:20140825T200000
DTSTAMP:20260422T225708
CREATED:20140421T194000Z
LAST-MODIFIED:20140602T211402Z
UID:1796-1408992300-1408996800@mcfaddin-ward.org
SUMMARY:Mondays at the Museum
DESCRIPTION:The McFaddin-Ward House and LoveYoga are excited to bring you Mondays at the Museum. \nThe McFaddin-Ward House will open up its lawn on the last Monday of the month for a little bit of yoga and a lot of scenic surroundings. \nJoin us on the east lawn of the museum for a donation-based session. \nIt all starts at 6:45 pm!
URL:https://mcfaddin-ward.org/event/mondays-museum-2014-08-28/
LOCATION:McFaddin-Ward House\, 1906 McFaddin Avenue\, Beaumont\, TX\, 77701\, United States
CATEGORIES:Mondays at the Museum
ATTACH;FMTTYPE=image/jpeg:https://mcfaddin-ward.org/wp-content/uploads/2014/04/MondaysAtTheMuseum.jpg
ORGANIZER;CN="Marcus Powers":MAILTO:mpowers@mcfaddin-ward.org
END:VEVENT
BEGIN:VEVENT
DTSTART;TZID=America/Chicago:20140728T184500
DTEND;TZID=America/Chicago:20140728T200000
DTSTAMP:20260422T225708
CREATED:20140421T194000Z
LAST-MODIFIED:20140602T211422Z
UID:1795-1406573100-1406577600@mcfaddin-ward.org
SUMMARY:Mondays at the Museum
DESCRIPTION:The McFaddin-Ward House and LoveYoga are excited to bring you Mondays at the Museum. \nThe McFaddin-Ward House will open up its lawn on the last Monday of the month for a little bit of yoga and a lot of scenic surroundings. \nJoin us on the east lawn of the museum for a donation-based session. \nIt all starts at 6:45 pm!
URL:https://mcfaddin-ward.org/event/mondays-museum-2014-07-28/
LOCATION:McFaddin-Ward House\, 1906 McFaddin Avenue\, Beaumont\, TX\, 77701\, United States
CATEGORIES:Mondays at the Museum
ATTACH;FMTTYPE=image/jpeg:https://mcfaddin-ward.org/wp-content/uploads/2014/04/MondaysAtTheMuseum.jpg
ORGANIZER;CN="Marcus Powers":MAILTO:mpowers@mcfaddin-ward.org
END:VEVENT
BEGIN:VEVENT
DTSTART;TZID=America/Chicago:20140630T184500
DTEND;TZID=America/Chicago:20140630T200000
DTSTAMP:20260422T225708
CREATED:20140421T194000Z
LAST-MODIFIED:20140602T211521Z
UID:1794-1404153900-1404158400@mcfaddin-ward.org
SUMMARY:Mondays at the Museum
DESCRIPTION:The McFaddin-Ward House and LoveYoga are excited to bring you Mondays at the Museum. \nThe McFaddin-Ward House will open up its lawn on the last Monday of the month for a little bit of yoga and a lot of scenic surroundings. \nJoin us on the east lawn of the museum for a donation-based session. \nIt all starts at 6:45 pm!
URL:https://mcfaddin-ward.org/event/mondays-museum-2014-06-28/
LOCATION:McFaddin-Ward House\, 1906 McFaddin Avenue\, Beaumont\, TX\, 77701\, United States
CATEGORIES:Mondays at the Museum
ATTACH;FMTTYPE=image/jpeg:https://mcfaddin-ward.org/wp-content/uploads/2014/04/MondaysAtTheMuseum.jpg
ORGANIZER;CN="Marcus Powers":MAILTO:mpowers@mcfaddin-ward.org
END:VEVENT
END:VCALENDAR