BEGIN:VCALENDAR
VERSION:2.0
PRODID:-//The McFaddin-Ward House - ECPv6.15.20//NONSGML v1.0//EN
CALSCALE:GREGORIAN
METHOD:PUBLISH
X-ORIGINAL-URL:https://mcfaddin-ward.org
X-WR-CALDESC:Events for The McFaddin-Ward House
REFRESH-INTERVAL;VALUE=DURATION:PT1H
X-Robots-Tag:noindex
X-PUBLISHED-TTL:PT1H
BEGIN:VTIMEZONE
TZID:America/Chicago
BEGIN:DAYLIGHT
TZOFFSETFROM:-0600
TZOFFSETTO:-0500
TZNAME:CDT
DTSTART:20130310T080000
END:DAYLIGHT
BEGIN:STANDARD
TZOFFSETFROM:-0500
TZOFFSETTO:-0600
TZNAME:CST
DTSTART:20131103T070000
END:STANDARD
BEGIN:DAYLIGHT
TZOFFSETFROM:-0600
TZOFFSETTO:-0500
TZNAME:CDT
DTSTART:20140309T080000
END:DAYLIGHT
BEGIN:STANDARD
TZOFFSETFROM:-0500
TZOFFSETTO:-0600
TZNAME:CST
DTSTART:20141102T070000
END:STANDARD
BEGIN:DAYLIGHT
TZOFFSETFROM:-0600
TZOFFSETTO:-0500
TZNAME:CDT
DTSTART:20150308T080000
END:DAYLIGHT
BEGIN:STANDARD
TZOFFSETFROM:-0500
TZOFFSETTO:-0600
TZNAME:CST
DTSTART:20151101T070000
END:STANDARD
BEGIN:DAYLIGHT
TZOFFSETFROM:-0600
TZOFFSETTO:-0500
TZNAME:CDT
DTSTART:20160313T080000
END:DAYLIGHT
BEGIN:STANDARD
TZOFFSETFROM:-0500
TZOFFSETTO:-0600
TZNAME:CST
DTSTART:20161106T070000
END:STANDARD
BEGIN:DAYLIGHT
TZOFFSETFROM:-0600
TZOFFSETTO:-0500
TZNAME:CDT
DTSTART:20170312T080000
END:DAYLIGHT
BEGIN:STANDARD
TZOFFSETFROM:-0500
TZOFFSETTO:-0600
TZNAME:CST
DTSTART:20171105T070000
END:STANDARD
BEGIN:DAYLIGHT
TZOFFSETFROM:-0600
TZOFFSETTO:-0500
TZNAME:CDT
DTSTART:20180311T080000
END:DAYLIGHT
BEGIN:STANDARD
TZOFFSETFROM:-0500
TZOFFSETTO:-0600
TZNAME:CST
DTSTART:20181104T070000
END:STANDARD
BEGIN:DAYLIGHT
TZOFFSETFROM:-0600
TZOFFSETTO:-0500
TZNAME:CDT
DTSTART:20190310T080000
END:DAYLIGHT
BEGIN:STANDARD
TZOFFSETFROM:-0500
TZOFFSETTO:-0600
TZNAME:CST
DTSTART:20191103T070000
END:STANDARD
BEGIN:DAYLIGHT
TZOFFSETFROM:-0600
TZOFFSETTO:-0500
TZNAME:CDT
DTSTART:20200308T080000
END:DAYLIGHT
BEGIN:STANDARD
TZOFFSETFROM:-0500
TZOFFSETTO:-0600
TZNAME:CST
DTSTART:20201101T070000
END:STANDARD
BEGIN:DAYLIGHT
TZOFFSETFROM:-0600
TZOFFSETTO:-0500
TZNAME:CDT
DTSTART:20210314T080000
END:DAYLIGHT
BEGIN:STANDARD
TZOFFSETFROM:-0500
TZOFFSETTO:-0600
TZNAME:CST
DTSTART:20211107T070000
END:STANDARD
BEGIN:DAYLIGHT
TZOFFSETFROM:-0600
TZOFFSETTO:-0500
TZNAME:CDT
DTSTART:20220313T080000
END:DAYLIGHT
BEGIN:STANDARD
TZOFFSETFROM:-0500
TZOFFSETTO:-0600
TZNAME:CST
DTSTART:20221106T070000
END:STANDARD
BEGIN:DAYLIGHT
TZOFFSETFROM:-0600
TZOFFSETTO:-0500
TZNAME:CDT
DTSTART:20230312T080000
END:DAYLIGHT
BEGIN:STANDARD
TZOFFSETFROM:-0500
TZOFFSETTO:-0600
TZNAME:CST
DTSTART:20231105T070000
END:STANDARD
END:VTIMEZONE
BEGIN:VEVENT
DTSTART;TZID=America/Chicago:20221211T170000
DTEND;TZID=America/Chicago:20221211T190000
DTSTAMP:20260424T055628
CREATED:20221012T204912Z
LAST-MODIFIED:20221118T193657Z
UID:4851-1670778000-1670785200@mcfaddin-ward.org
SUMMARY:McFaddin-Ward Holiday Open House | Homes for the Holidays
DESCRIPTION:Join us for Holiday Cheer at the Annual McFaddin-Ward Holiday Open House on Sunday\, December 11th from 5 p.m. to 7 p.m. \nEnjoy the magnificent holiday decorations adorning the historic home with a walk-through tour of the first floor.  Carolers will greet you in the gardens\, beautiful Christmas music will be played on the grand piano in the Music Room\, and a special guest will be waiting on the porch to check your list. \nRefreshments and delightful live music will fill the Visitor Center.  All at no charge. \nAlso on Dec. 11\, the McFaddin-Ward House is partnering with the Oaks Historic District and Beaumont Heritage Society for the second annual Homes for the Holidays event. From 3-7 p.m.\, the Oaks Historic District will offer tours of three historic homes within the district\, decked out for the holidays. Tickets are $20 (kids under 12 are free) and can be purchased at the McFaddin-Ward House Visitor Center or online at https://oakshomesfortheholidays.eventbrite.com.
URL:https://mcfaddin-ward.org/event/mcfaddin-ward-holiday-open-house-homes-for-the-holidays/
LOCATION:McFaddin-Ward House\, 1906 McFaddin Avenue\, Beaumont\, TX\, 77701\, United States
CATEGORIES:Children's Events,Christmas,Free Events
ATTACH;FMTTYPE=image/jpeg:https://mcfaddin-ward.org/wp-content/uploads/2022/10/Holiday-Open-House-FB-Event.jpg
END:VEVENT
BEGIN:VEVENT
DTSTART;TZID=America/Chicago:20221204T120000
DTEND;TZID=America/Chicago:20221204T150000
DTSTAMP:20260424T055628
CREATED:20221012T204033Z
LAST-MODIFIED:20221107T152837Z
UID:4846-1670155200-1670166000@mcfaddin-ward.org
SUMMARY:Holiday Photo Shoot
DESCRIPTION:Join us for the McFaddin-Ward House Annual Photo Shoot on Sunday\, December 4th to have your holiday photo taken in front of our historic home! \nPhoto reservation appointments will be available from noon – 3 p.m. Call 409-832-2134 to make a reservation. \nA limited number of appointments are available so make your reservations early! \nA photographer will take three photos of you and your loved ones. Your photos will be emailed to you the following week. \n*In the event of inclement weather\, the holiday photo shoot will be cancelled.*
URL:https://mcfaddin-ward.org/event/holiday-photo-shoot-2/
LOCATION:McFaddin-Ward House\, 1906 McFaddin Avenue\, Beaumont\, TX\, 77701\, United States
CATEGORIES:Children's Events,Christmas,Free Events
ATTACH;FMTTYPE=image/jpeg:https://mcfaddin-ward.org/wp-content/uploads/2022/10/Holiday-Photo-Shoot-Graphic-1.jpg
END:VEVENT
BEGIN:VEVENT
DTSTART;TZID=America/Chicago:20220725T100000
DTEND;TZID=America/Chicago:20220727T140000
DTSTAMP:20260424T055628
CREATED:20220422T141807Z
LAST-MODIFIED:20220718T184053Z
UID:4626-1658743200-1658930400@mcfaddin-ward.org
SUMMARY:Ranching Round-Up Summer Camp: Week Two
DESCRIPTION:Summer camp registration is now closed.  Want to add your little rancher to the waitlist? Call 409-832-1906 or email rhoeft@mcfaddin-ward.org. \n\n____________________________________________\n\nRanching Round-Up Summer Camp is a fun and educational three-day summer camp held on the grounds of the historic McFaddin-Ward House Museum. \nCampers\, ages 8-12\, experience another period in Texas history while performing hands-on activities related to this year’s theme of ranching. \n  \nActivities include: \n*Arts & Crafts \n*Ranch Work Demonstrations \n*Dancing & Music \n*Live-Animal Interactions \n*Object-Based Learning Experiences \n*Ranch Cooking Demonstrations \n*STEAM Activities \n(Activities subject to change.) \n  \nTwo weeks of summer camp are offered. \n  \nWeek 1: \nJune 27-29 | 10 a.m. – 2 p.m. \nThe last day to register for Week 1 is June 17th. \n  \nWeek 2: \nJuly 25-27 | 10 a.m. – 2 p.m. \nThe last day to register for Week 2 is July 15th. \n  \nTo register\, visit https://bit.ly/3w5zHyw. \nRegistration is required and space is limited. Cost per child is $45. Scholarships are available. To access the scholarship form\, visit https://bit.ly/3PiZPh0. (Registration not confirmed until payment is made.)
URL:https://mcfaddin-ward.org/event/ranching-round-up-summer-camp-week-two/
LOCATION:McFaddin-Ward House\, 1906 McFaddin Avenue\, Beaumont\, TX\, 77701\, United States
CATEGORIES:Children's Events
ATTACH;FMTTYPE=image/png:https://mcfaddin-ward.org/wp-content/uploads/2022/04/Summer-Camp-2022-FB-Event-Cover.png
END:VEVENT
BEGIN:VEVENT
DTSTART;TZID=America/Chicago:20220627T100000
DTEND;TZID=America/Chicago:20220629T140000
DTSTAMP:20260424T055628
CREATED:20220422T141556Z
LAST-MODIFIED:20220513T150438Z
UID:4625-1656324000-1656511200@mcfaddin-ward.org
SUMMARY:Ranching Round-Up Summer Camp: Week One
DESCRIPTION:Ranching Round-Up Summer Camp is a fun and educational three-day summer camp held on the grounds of the historic McFaddin-Ward House Museum. \nCampers\, ages 8-12\, experience another period in Texas history while performing hands-on activities related to this year’s theme of ranching. \n  \nActivities include: \n*Arts & Crafts \n*Ranch Work Demonstrations \n*Dancing & Music \n*Live-Animal Interactions \n*Object-Based Learning Experiences \n*Ranch Cooking Demonstrations \n*STEAM Activities \n(Activities subject to change.) \n  \nTwo weeks of summer camp are offered. \n  \nWeek 1: \nJune 27-29 | 10 a.m. – 2 p.m. \nThe last day to register for Week 1 is June 17th. \n  \nWeek 2: \nJuly 25-27 | 10 a.m. – 2 p.m. \nThe last day to register for Week 2 is July 15th. \nTo register\, visit https://bit.ly/3w5zHyw. \nRegistration is required and space is limited. Cost per child is $45. Scholarships are available. To access the scholarship form\, visit https://bit.ly/3PiZPh0. (Registration not confirmed until payment is made.)
URL:https://mcfaddin-ward.org/event/ranching-round-up-summer-camp-week-one/
LOCATION:McFaddin-Ward House\, 1906 McFaddin Avenue\, Beaumont\, TX\, 77701\, United States
CATEGORIES:Children's Events
ATTACH;FMTTYPE=image/png:https://mcfaddin-ward.org/wp-content/uploads/2022/04/Summer-Camp-2022-FB-Event-Cover.png
END:VEVENT
BEGIN:VEVENT
DTSTART;TZID=America/Chicago:20220423T100000
DTEND;TZID=America/Chicago:20220423T140000
DTSTAMP:20260424T055628
CREATED:20220411T151121Z
LAST-MODIFIED:20220411T151121Z
UID:4616-1650708000-1650722400@mcfaddin-ward.org
SUMMARY:Earth Day Celebration
DESCRIPTION:Join the McFaddin-Ward House & the Beaumont Heritage Society in celebrating Earth Day with this FREE family-friendly event!\nThe event\, located in the McFaddin-Ward House gardens\, will include:\nHands-on Activities\nTake-Home Kits\nGarden Scavenger Hunt\nLawn Games\n Science Experiments\n Lemonade & Cookies\nThis event is free and open to the public.\nFor more information\, call 409.832.1906.
URL:https://mcfaddin-ward.org/event/earth-day-celebration/
LOCATION:McFaddin-Ward House\, 1906 McFaddin Avenue\, Beaumont\, TX\, 77701\, United States
CATEGORIES:Children's Events,Free Events
ATTACH;FMTTYPE=image/jpeg:https://mcfaddin-ward.org/wp-content/uploads/2022/04/Earth-Day-Flyer.jpg
END:VEVENT
BEGIN:VEVENT
DTSTART;TZID=America/Chicago:20190723T100000
DTEND;TZID=America/Chicago:20190725T140000
DTSTAMP:20260424T055628
CREATED:20190520T183114Z
LAST-MODIFIED:20190520T183129Z
UID:3075-1563876000-1564063200@mcfaddin-ward.org
SUMMARY:2019 Summer Camp for Kids
DESCRIPTION:“A Day in the Life” Summer Camp\nSummer Camp is set for July 23 – 25\, 2019. \nClick here for more information!\nhttp://mcfaddin-ward.org/category/news/ \n 
URL:https://mcfaddin-ward.org/event/2018-summer-camp-for-kids/
LOCATION:McFaddin-Ward House Visitor Center\, 1906 Calder\, Beaumont\, TX\, 77701\, United States
CATEGORIES:Children's Events
END:VEVENT
BEGIN:VEVENT
DTSTART;TZID=America/Chicago:20170504T173000
DTEND;TZID=America/Chicago:20170504T193000
DTSTAMP:20260424T055628
CREATED:20170403T192155Z
LAST-MODIFIED:20170403T204545Z
UID:2832-1493919000-1493926200@mcfaddin-ward.org
SUMMARY:Spring Picnic on the Lawn
DESCRIPTION:It’s our annual Spring Picnic at the McFaddin-Ward House! Bring your lawn chairs\, blankets\, drinks and food. We’ll provide the beautiful backdrop of our southern family home and gardens….plus a live band\, food truck\, face painting\, arts\, crafts\, and fun. Children are so welcome\, but unless it’s a service animal\, please leave the pets (and cigarettes) at at the front gate. See you there! \n  \n  \n 
URL:https://mcfaddin-ward.org/event/spring-picnic-lawn/
LOCATION:McFaddin-Ward House\, 1906 McFaddin Avenue\, Beaumont\, TX\, 77701\, United States
CATEGORIES:Children's Events,Community Picnic,Free Events
ATTACH;FMTTYPE=image/jpeg:https://mcfaddin-ward.org/wp-content/uploads/2017/04/SP16Crowd.jpg
ORGANIZER;CN="Allen Lea":MAILTO:alea@mcfaddin-ward.org
END:VEVENT
BEGIN:VEVENT
DTSTART;TZID=America/Chicago:20160713T100000
DTEND;TZID=America/Chicago:20160713T130000
DTSTAMP:20260424T055628
CREATED:20160413T193245Z
LAST-MODIFIED:20160708T161426Z
UID:2415-1468404000-1468414800@mcfaddin-ward.org
SUMMARY:Manners Matter for Kids - CLASS IS NOW  FULL
DESCRIPTION:THIS CLASS IS NOW FULL \nWHICH FORK DO I USE? / DON’T TALK WITH YOUR MOUTH FULL! / EXACTLY HOW DO I FOLD THIS NAPKIN??? \nThe McFaddins were all about social graces and minding their manners. Come to the McFaddin-Ward House this summer for lessons! Get tips on conducting yourself at the table\, proper conversation\, introductions\, even how to dress to impress! \nFor Ages 10 – 14 \nCost: $25 which includes lunch\, of course! \nRegistration deadline is Wednesday\, July 6\, 2016 \nFor more information\, call Sandy at 832-1906
URL:https://mcfaddin-ward.org/event/manners-matter-2016/
LOCATION:McFaddin-Ward House Visitor Center\, 1906 Calder\, Beaumont\, TX\, 77701\, United States
CATEGORIES:Children's Events,Free Events
ATTACH;FMTTYPE=image/jpeg:https://mcfaddin-ward.org/wp-content/uploads/2016/04/Manners-2-scaled.jpg
END:VEVENT
BEGIN:VEVENT
DTSTART;TZID=America/Chicago:20160622T090000
DTEND;TZID=America/Chicago:20160622T090000
DTSTAMP:20260424T055628
CREATED:20160413T145801Z
LAST-MODIFIED:20160610T192629Z
UID:2411-1466586000-1466586000@mcfaddin-ward.org
SUMMARY:Calling All Campers!
DESCRIPTION:MCFADDIN-WARD HOUSE KID’S CAMP IS BACK FOR 2016 AND BETTER THAN EVER!  \nCLASSES ARE LIMITED\, SO SIGN UP TODAY. \nTHREE DIFFERENT CAMPS\, THREE DIFFERENT EXPERIENCES FOR AGES 8 TO 12: \nJune 22\, “McFaddin Round-Up” – Howdy\, Partner! Ranching is in the McFaddin Family blood. Find out about ranch life\, both work and play. Meet animals and learn about their care\, then sing around the campfire!  9:00 a.m. – NOON   Cost: $15 \nJuly 20\, “Let’s Play Games!” – Games make life so much more fun as the McFaddin Family well knew. Just look at their third floor! Learn how to play games\, both old and new. Test your talent for everything from brain teasers to athletic feat.   9:00 a.m. – NOON   Cost: $15 \nAugust 10\, “Lights\, Camera\, ACTION!” – In this camp\, you’ll make a movie like they did in Hollywood’s Golden Age. When camp is over\, take it home and show it to your family and friends.   9:00 a.m. – NOON   Cost: $15 \n  \n 
URL:https://mcfaddin-ward.org/event/summer-camp-back/
LOCATION:McFaddin-Ward House Visitor Center\, 1906 Calder\, Beaumont\, TX\, 77701\, United States
CATEGORIES:Children's Events,Free Events
ATTACH;FMTTYPE=image/jpeg:https://mcfaddin-ward.org/wp-content/uploads/2016/04/Thor-McKenna-scaled.jpg
END:VEVENT
BEGIN:VEVENT
DTSTART;TZID=America/Chicago:20150728T100000
DTEND;TZID=America/Chicago:20150728T140000
DTSTAMP:20260424T055628
CREATED:20150414T155126Z
LAST-MODIFIED:20150612T183928Z
UID:1993-1438077600-1438092000@mcfaddin-ward.org
SUMMARY:2015 Kid's Summer Camp
DESCRIPTION:Save the date for this year’s summer camp! More details to come on activities. \nFor now:\nJuly 28th\, 29th\, and 30th.\n10 a.m. to 2 p.m.\nAges 8 through 12.\n$20 per child.\nSignups starting in May. \nStay tuned for more information\, coming soon!
URL:https://mcfaddin-ward.org/event/2015-kids-summer-camp/
LOCATION:Visitor Center\, 1906 Calder Avenue\, Beaumont\, TX\, 77701\, United States
CATEGORIES:Children's Events
ATTACH;FMTTYPE=image/jpeg:https://mcfaddin-ward.org/wp-content/uploads/2015/04/Summer-Camp-Word-Logo.jpg
ORGANIZER;CN="Marcus Powers":MAILTO:mpowers@mcfaddin-ward.org
END:VEVENT
BEGIN:VEVENT
DTSTART;TZID=America/Chicago:20150701T100000
DTEND;TZID=America/Chicago:20150701T130000
DTSTAMP:20260424T055628
CREATED:20150608T205809Z
LAST-MODIFIED:20150608T210037Z
UID:2032-1435744800-1435755600@mcfaddin-ward.org
SUMMARY:Free Kids' Movie: "Night at the Museum"
DESCRIPTION:Enjoy a day at the museum… with “Night At The Museum!” \nThis summer\, we’re offering you a chance to bring your kids to the McFaddin-Ward House and enjoy a movie during the daylight hours in our Visitor Center. \nWe’re starting it all with “Night at the Museum\,” a recent classic that showcases what just goes on inside a museum after the doors are closed. It all starts at 10 a.m. on Wednesday\, July 1st. \nBring your whole family (all ages welcome)!\nBring blankets\, pillows\, and get ready to spread out on the floor.\nThe movie will be shown in our Lecture Hall\, located at 1906 Calder Avenue.\nThis movie is free and open to the public\, popcorn and drinks included! \nQuestions? Please call (409) 832-1906.
URL:https://mcfaddin-ward.org/event/free-kids-movie-night-at-the-museum/
LOCATION:Visitor Center\, 1906 Calder Avenue\, Beaumont\, TX\, 77701\, United States
CATEGORIES:Children's Events,Free Events
ATTACH;FMTTYPE=image/jpeg:https://mcfaddin-ward.org/wp-content/uploads/2015/06/Rexy-Trex.jpg
ORGANIZER;CN="Marcus Powers":MAILTO:mpowers@mcfaddin-ward.org
END:VEVENT
BEGIN:VEVENT
DTSTART;TZID=America/Chicago:20140729T100000
DTEND;TZID=America/Chicago:20140729T140000
DTSTAMP:20260424T055628
CREATED:20140527T171339Z
LAST-MODIFIED:20140527T171339Z
UID:1815-1406628000-1406642400@mcfaddin-ward.org
SUMMARY:Summer Camp at the Museum
DESCRIPTION:Beat the heat and those summertime blues! Sign your kids up for summer camp at the McFaddin-Ward House. \nThis year\, we’ll be focusing on the museum’s theme\, Beyond Sustenance. Over three days\, we’ll learn about food traditions\, etiquette and manners surrounding mealtime\, historical gardening\, and even some food demonstrations. \nThe camp is open to kids ages 8-12\, and will cost $20 per child. It’ll take place every day from 10 am to 2 pm on July 29th\, 30th\, and 31st. \nSpace is limited\, so be sure and register today! Call (409) 832-1906!
URL:https://mcfaddin-ward.org/event/summer-camp-museum/
LOCATION:Visitor Center\, 1906 Calder Avenue\, Beaumont\, TX\, 77701\, United States
CATEGORIES:Children's Events
ATTACH;FMTTYPE=image/png:https://mcfaddin-ward.org/wp-content/uploads/2014/05/Summer-Camp-Logo.png
ORGANIZER;CN="Marcus Powers":MAILTO:mpowers@mcfaddin-ward.org
END:VEVENT
END:VCALENDAR